BEGIN:VCALENDAR
VERSION:2.0
PRODID:-//Harlow Masonic Hall - ECPv6.15.20//NONSGML v1.0//EN
CALSCALE:GREGORIAN
METHOD:PUBLISH
X-WR-CALNAME:Harlow Masonic Hall
X-ORIGINAL-URL:https://harlowmasonichall.co.uk
X-WR-CALDESC:Events for Harlow Masonic Hall
REFRESH-INTERVAL;VALUE=DURATION:PT1H
X-Robots-Tag:noindex
X-PUBLISHED-TTL:PT1H
BEGIN:VTIMEZONE
TZID:Europe/London
BEGIN:DAYLIGHT
TZOFFSETFROM:+0000
TZOFFSETTO:+0100
TZNAME:BST
DTSTART:20250330T010000
END:DAYLIGHT
BEGIN:STANDARD
TZOFFSETFROM:+0100
TZOFFSETTO:+0000
TZNAME:GMT
DTSTART:20251026T010000
END:STANDARD
BEGIN:DAYLIGHT
TZOFFSETFROM:+0000
TZOFFSETTO:+0100
TZNAME:BST
DTSTART:20260329T010000
END:DAYLIGHT
BEGIN:STANDARD
TZOFFSETFROM:+0100
TZOFFSETTO:+0000
TZNAME:GMT
DTSTART:20261025T010000
END:STANDARD
BEGIN:DAYLIGHT
TZOFFSETFROM:+0000
TZOFFSETTO:+0100
TZNAME:BST
DTSTART:20270328T010000
END:DAYLIGHT
BEGIN:STANDARD
TZOFFSETFROM:+0100
TZOFFSETTO:+0000
TZNAME:GMT
DTSTART:20271031T010000
END:STANDARD
BEGIN:DAYLIGHT
TZOFFSETFROM:+0000
TZOFFSETTO:+0100
TZNAME:BST
DTSTART:20280326T010000
END:DAYLIGHT
BEGIN:STANDARD
TZOFFSETFROM:+0100
TZOFFSETTO:+0000
TZNAME:GMT
DTSTART:20281029T010000
END:STANDARD
BEGIN:DAYLIGHT
TZOFFSETFROM:+0000
TZOFFSETTO:+0100
TZNAME:BST
DTSTART:20290325T010000
END:DAYLIGHT
BEGIN:STANDARD
TZOFFSETFROM:+0100
TZOFFSETTO:+0000
TZNAME:GMT
DTSTART:20291028T010000
END:STANDARD
BEGIN:DAYLIGHT
TZOFFSETFROM:+0000
TZOFFSETTO:+0100
TZNAME:BST
DTSTART:20300331T010000
END:DAYLIGHT
BEGIN:STANDARD
TZOFFSETFROM:+0100
TZOFFSETTO:+0000
TZNAME:GMT
DTSTART:20301027T010000
END:STANDARD
BEGIN:DAYLIGHT
TZOFFSETFROM:+0000
TZOFFSETTO:+0100
TZNAME:BST
DTSTART:20310330T010000
END:DAYLIGHT
BEGIN:STANDARD
TZOFFSETFROM:+0100
TZOFFSETTO:+0000
TZNAME:GMT
DTSTART:20311026T010000
END:STANDARD
BEGIN:DAYLIGHT
TZOFFSETFROM:+0000
TZOFFSETTO:+0100
TZNAME:BST
DTSTART:20320328T010000
END:DAYLIGHT
BEGIN:STANDARD
TZOFFSETFROM:+0100
TZOFFSETTO:+0000
TZNAME:GMT
DTSTART:20321031T010000
END:STANDARD
BEGIN:DAYLIGHT
TZOFFSETFROM:+0000
TZOFFSETTO:+0100
TZNAME:BST
DTSTART:20330327T010000
END:DAYLIGHT
BEGIN:STANDARD
TZOFFSETFROM:+0100
TZOFFSETTO:+0000
TZNAME:GMT
DTSTART:20331030T010000
END:STANDARD
END:VTIMEZONE
BEGIN:VEVENT
DTSTART;TZID=Europe/London:20260514T150000
DTEND;TZID=Europe/London:20260514T193000
DTSTAMP:20260421T093103
CREATED:20150815T185751Z
LAST-MODIFIED:20221023T172707Z
UID:10004997-1778770800-1778787000@harlowmasonichall.co.uk
SUMMARY:Ixion Lodge 2501 - Meeting (Temple).
DESCRIPTION:Ixion 2501 Lodge meetings take place in the Temple on the \n2nd Thursday in September \n3rd Thursday in November \n2nd Thursday in March\, May (I) and July
URL:https://harlowmasonichall.co.uk/event/ixion-2501-meeting-temple/2026-05-14/
LOCATION:Temple: Meeting
CATEGORIES:Temple Meeting
GEO:35.7583847;-78.7433478
END:VEVENT
BEGIN:VEVENT
DTSTART;TZID=Europe/London:20260709T150000
DTEND;TZID=Europe/London:20260709T193000
DTSTAMP:20260421T093103
CREATED:20150815T185751Z
LAST-MODIFIED:20221023T172707Z
UID:10004998-1783609200-1783625400@harlowmasonichall.co.uk
SUMMARY:Ixion Lodge 2501 - Meeting (Temple).
DESCRIPTION:Ixion 2501 Lodge meetings take place in the Temple on the \n2nd Thursday in September \n3rd Thursday in November \n2nd Thursday in March\, May (I) and July
URL:https://harlowmasonichall.co.uk/event/ixion-2501-meeting-temple/2026-07-09/
LOCATION:Temple: Meeting
CATEGORIES:Temple Meeting
GEO:35.7583847;-78.7433478
END:VEVENT
BEGIN:VEVENT
DTSTART;TZID=Europe/London:20260910T150000
DTEND;TZID=Europe/London:20260910T193000
DTSTAMP:20260421T093103
CREATED:20150815T185751Z
LAST-MODIFIED:20221023T172707Z
UID:10004999-1789052400-1789068600@harlowmasonichall.co.uk
SUMMARY:Ixion Lodge 2501 - Meeting (Temple).
DESCRIPTION:Ixion 2501 Lodge meetings take place in the Temple on the \n2nd Thursday in September \n3rd Thursday in November \n2nd Thursday in March\, May (I) and July
URL:https://harlowmasonichall.co.uk/event/ixion-2501-meeting-temple/2026-09-10/
LOCATION:Temple: Meeting
CATEGORIES:Temple Meeting
GEO:35.7583847;-78.7433478
END:VEVENT
BEGIN:VEVENT
DTSTART;TZID=Europe/London:20261119T150000
DTEND;TZID=Europe/London:20261119T193000
DTSTAMP:20260421T093103
CREATED:20221214T113700Z
LAST-MODIFIED:20231228T212532Z
UID:10006126-1795100400-1795116600@harlowmasonichall.co.uk
SUMMARY:Ixion Lodge 2501 - Meeting (Temple).
DESCRIPTION:Ixion 2501 Lodge meetings take place in the Temple on the \n2nd Thursday in September \n3rd Thursday in November \n2nd Thursday in March\, May (I) and July
URL:https://harlowmasonichall.co.uk/event/ixion-lodge-2501-meeting-temple-3-2/2026-11-19/
LOCATION:Temple: Meeting
CATEGORIES:Temple Meeting
GEO:35.7583847;-78.7433478
END:VEVENT
BEGIN:VEVENT
DTSTART;TZID=Europe/London:20270311T150000
DTEND;TZID=Europe/London:20270311T193000
DTSTAMP:20260421T093103
CREATED:20150815T185751Z
LAST-MODIFIED:20221023T172707Z
UID:10005000-1804777200-1804793400@harlowmasonichall.co.uk
SUMMARY:Ixion Lodge 2501 - Meeting (Temple).
DESCRIPTION:Ixion 2501 Lodge meetings take place in the Temple on the \n2nd Thursday in September \n3rd Thursday in November \n2nd Thursday in March\, May (I) and July
URL:https://harlowmasonichall.co.uk/event/ixion-2501-meeting-temple/2027-03-11/
LOCATION:Temple: Meeting
CATEGORIES:Temple Meeting
GEO:35.7583847;-78.7433478
END:VEVENT
BEGIN:VEVENT
DTSTART;TZID=Europe/London:20270513T150000
DTEND;TZID=Europe/London:20270513T193000
DTSTAMP:20260421T093103
CREATED:20150815T185751Z
LAST-MODIFIED:20221023T172707Z
UID:10005001-1810220400-1810236600@harlowmasonichall.co.uk
SUMMARY:Ixion Lodge 2501 - Meeting (Temple).
DESCRIPTION:Ixion 2501 Lodge meetings take place in the Temple on the \n2nd Thursday in September \n3rd Thursday in November \n2nd Thursday in March\, May (I) and July
URL:https://harlowmasonichall.co.uk/event/ixion-2501-meeting-temple/2027-05-13/
LOCATION:Temple: Meeting
CATEGORIES:Temple Meeting
GEO:35.7583847;-78.7433478
END:VEVENT
BEGIN:VEVENT
DTSTART;TZID=Europe/London:20270708T150000
DTEND;TZID=Europe/London:20270708T193000
DTSTAMP:20260421T093103
CREATED:20150815T185751Z
LAST-MODIFIED:20221023T172707Z
UID:10005002-1815058800-1815075000@harlowmasonichall.co.uk
SUMMARY:Ixion Lodge 2501 - Meeting (Temple).
DESCRIPTION:Ixion 2501 Lodge meetings take place in the Temple on the \n2nd Thursday in September \n3rd Thursday in November \n2nd Thursday in March\, May (I) and July
URL:https://harlowmasonichall.co.uk/event/ixion-2501-meeting-temple/2027-07-08/
LOCATION:Temple: Meeting
CATEGORIES:Temple Meeting
GEO:35.7583847;-78.7433478
END:VEVENT
BEGIN:VEVENT
DTSTART;TZID=Europe/London:20270909T150000
DTEND;TZID=Europe/London:20270909T193000
DTSTAMP:20260421T093103
CREATED:20150815T185751Z
LAST-MODIFIED:20221023T172707Z
UID:10005003-1820502000-1820518200@harlowmasonichall.co.uk
SUMMARY:Ixion Lodge 2501 - Meeting (Temple).
DESCRIPTION:Ixion 2501 Lodge meetings take place in the Temple on the \n2nd Thursday in September \n3rd Thursday in November \n2nd Thursday in March\, May (I) and July
URL:https://harlowmasonichall.co.uk/event/ixion-2501-meeting-temple/2027-09-09/
LOCATION:Temple: Meeting
CATEGORIES:Temple Meeting
GEO:35.7583847;-78.7433478
END:VEVENT
BEGIN:VEVENT
DTSTART;TZID=Europe/London:20271118T150000
DTEND;TZID=Europe/London:20271118T193000
DTSTAMP:20260421T093103
CREATED:20221214T113700Z
LAST-MODIFIED:20231228T212532Z
UID:10006127-1826550000-1826566200@harlowmasonichall.co.uk
SUMMARY:Ixion Lodge 2501 - Meeting (Temple).
DESCRIPTION:Ixion 2501 Lodge meetings take place in the Temple on the \n2nd Thursday in September \n3rd Thursday in November \n2nd Thursday in March\, May (I) and July
URL:https://harlowmasonichall.co.uk/event/ixion-lodge-2501-meeting-temple-3-2/2027-11-18/
LOCATION:Temple: Meeting
CATEGORIES:Temple Meeting
GEO:35.7583847;-78.7433478
END:VEVENT
BEGIN:VEVENT
DTSTART;TZID=Europe/London:20280309T150000
DTEND;TZID=Europe/London:20280309T193000
DTSTAMP:20260421T093103
CREATED:20150815T185751Z
LAST-MODIFIED:20221023T172707Z
UID:10005004-1836226800-1836243000@harlowmasonichall.co.uk
SUMMARY:Ixion Lodge 2501 - Meeting (Temple).
DESCRIPTION:Ixion 2501 Lodge meetings take place in the Temple on the \n2nd Thursday in September \n3rd Thursday in November \n2nd Thursday in March\, May (I) and July
URL:https://harlowmasonichall.co.uk/event/ixion-2501-meeting-temple/2028-03-09/
LOCATION:Temple: Meeting
CATEGORIES:Temple Meeting
GEO:35.7583847;-78.7433478
END:VEVENT
BEGIN:VEVENT
DTSTART;TZID=Europe/London:20280511T150000
DTEND;TZID=Europe/London:20280511T193000
DTSTAMP:20260421T093103
CREATED:20150815T185751Z
LAST-MODIFIED:20221023T172707Z
UID:10005005-1841670000-1841686200@harlowmasonichall.co.uk
SUMMARY:Ixion Lodge 2501 - Meeting (Temple).
DESCRIPTION:Ixion 2501 Lodge meetings take place in the Temple on the \n2nd Thursday in September \n3rd Thursday in November \n2nd Thursday in March\, May (I) and July
URL:https://harlowmasonichall.co.uk/event/ixion-2501-meeting-temple/2028-05-11/
LOCATION:Temple: Meeting
CATEGORIES:Temple Meeting
GEO:35.7583847;-78.7433478
END:VEVENT
BEGIN:VEVENT
DTSTART;TZID=Europe/London:20280713T150000
DTEND;TZID=Europe/London:20280713T193000
DTSTAMP:20260421T093103
CREATED:20150815T185751Z
LAST-MODIFIED:20221023T172707Z
UID:10006407-1847113200-1847129400@harlowmasonichall.co.uk
SUMMARY:Ixion Lodge 2501 - Meeting (Temple).
DESCRIPTION:Ixion 2501 Lodge meetings take place in the Temple on the \n2nd Thursday in September \n3rd Thursday in November \n2nd Thursday in March\, May (I) and July
URL:https://harlowmasonichall.co.uk/event/ixion-2501-meeting-temple/2028-07-13/
LOCATION:Temple: Meeting
CATEGORIES:Temple Meeting
GEO:35.7583847;-78.7433478
END:VEVENT
BEGIN:VEVENT
DTSTART;TZID=Europe/London:20280914T150000
DTEND;TZID=Europe/London:20280914T193000
DTSTAMP:20260421T093103
CREATED:20150815T185751Z
LAST-MODIFIED:20221023T172707Z
UID:10006408-1852556400-1852572600@harlowmasonichall.co.uk
SUMMARY:Ixion Lodge 2501 - Meeting (Temple).
DESCRIPTION:Ixion 2501 Lodge meetings take place in the Temple on the \n2nd Thursday in September \n3rd Thursday in November \n2nd Thursday in March\, May (I) and July
URL:https://harlowmasonichall.co.uk/event/ixion-2501-meeting-temple/2028-09-14/
LOCATION:Temple: Meeting
CATEGORIES:Temple Meeting
GEO:35.7583847;-78.7433478
END:VEVENT
BEGIN:VEVENT
DTSTART;TZID=Europe/London:20281116T150000
DTEND;TZID=Europe/London:20281116T193000
DTSTAMP:20260421T093103
CREATED:20221214T113700Z
LAST-MODIFIED:20231228T212532Z
UID:10006128-1857999600-1858015800@harlowmasonichall.co.uk
SUMMARY:Ixion Lodge 2501 - Meeting (Temple).
DESCRIPTION:Ixion 2501 Lodge meetings take place in the Temple on the \n2nd Thursday in September \n3rd Thursday in November \n2nd Thursday in March\, May (I) and July
URL:https://harlowmasonichall.co.uk/event/ixion-lodge-2501-meeting-temple-3-2/2028-11-16/
LOCATION:Temple: Meeting
CATEGORIES:Temple Meeting
GEO:35.7583847;-78.7433478
END:VEVENT
BEGIN:VEVENT
DTSTART;TZID=Europe/London:20290308T150000
DTEND;TZID=Europe/London:20290308T193000
DTSTAMP:20260421T093103
CREATED:20150815T185751Z
LAST-MODIFIED:20221023T172707Z
UID:10006409-1867676400-1867692600@harlowmasonichall.co.uk
SUMMARY:Ixion Lodge 2501 - Meeting (Temple).
DESCRIPTION:Ixion 2501 Lodge meetings take place in the Temple on the \n2nd Thursday in September \n3rd Thursday in November \n2nd Thursday in March\, May (I) and July
URL:https://harlowmasonichall.co.uk/event/ixion-2501-meeting-temple/2029-03-08/
LOCATION:Temple: Meeting
CATEGORIES:Temple Meeting
GEO:35.7583847;-78.7433478
END:VEVENT
BEGIN:VEVENT
DTSTART;TZID=Europe/London:20290510T150000
DTEND;TZID=Europe/London:20290510T193000
DTSTAMP:20260421T093103
CREATED:20150815T185751Z
LAST-MODIFIED:20221023T172707Z
UID:10006823-1873119600-1873135800@harlowmasonichall.co.uk
SUMMARY:Ixion Lodge 2501 - Meeting (Temple).
DESCRIPTION:Ixion 2501 Lodge meetings take place in the Temple on the \n2nd Thursday in September \n3rd Thursday in November \n2nd Thursday in March\, May (I) and July
URL:https://harlowmasonichall.co.uk/event/ixion-2501-meeting-temple/2029-05-10/
LOCATION:Temple: Meeting
CATEGORIES:Temple Meeting
GEO:35.7583847;-78.7433478
END:VEVENT
BEGIN:VEVENT
DTSTART;TZID=Europe/London:20290712T150000
DTEND;TZID=Europe/London:20290712T193000
DTSTAMP:20260421T093103
CREATED:20150815T185751Z
LAST-MODIFIED:20221023T172707Z
UID:10006824-1878562800-1878579000@harlowmasonichall.co.uk
SUMMARY:Ixion Lodge 2501 - Meeting (Temple).
DESCRIPTION:Ixion 2501 Lodge meetings take place in the Temple on the \n2nd Thursday in September \n3rd Thursday in November \n2nd Thursday in March\, May (I) and July
URL:https://harlowmasonichall.co.uk/event/ixion-2501-meeting-temple/2029-07-12/
LOCATION:Temple: Meeting
CATEGORIES:Temple Meeting
GEO:35.7583847;-78.7433478
END:VEVENT
BEGIN:VEVENT
DTSTART;TZID=Europe/London:20290913T150000
DTEND;TZID=Europe/London:20290913T193000
DTSTAMP:20260421T093103
CREATED:20150815T185751Z
LAST-MODIFIED:20221023T172707Z
UID:10006825-1884006000-1884022200@harlowmasonichall.co.uk
SUMMARY:Ixion Lodge 2501 - Meeting (Temple).
DESCRIPTION:Ixion 2501 Lodge meetings take place in the Temple on the \n2nd Thursday in September \n3rd Thursday in November \n2nd Thursday in March\, May (I) and July
URL:https://harlowmasonichall.co.uk/event/ixion-2501-meeting-temple/2029-09-13/
LOCATION:Temple: Meeting
CATEGORIES:Temple Meeting
GEO:35.7583847;-78.7433478
END:VEVENT
BEGIN:VEVENT
DTSTART;TZID=Europe/London:20291115T150000
DTEND;TZID=Europe/London:20291115T193000
DTSTAMP:20260421T093103
CREATED:20221214T113700Z
LAST-MODIFIED:20231228T212532Z
UID:10006901-1889449200-1889465400@harlowmasonichall.co.uk
SUMMARY:Ixion Lodge 2501 - Meeting (Temple).
DESCRIPTION:Ixion 2501 Lodge meetings take place in the Temple on the \n2nd Thursday in September \n3rd Thursday in November \n2nd Thursday in March\, May (I) and July
URL:https://harlowmasonichall.co.uk/event/ixion-lodge-2501-meeting-temple-3-2/2029-11-15/
LOCATION:Temple: Meeting
CATEGORIES:Temple Meeting
GEO:35.7583847;-78.7433478
END:VEVENT
BEGIN:VEVENT
DTSTART;TZID=Europe/London:20300314T150000
DTEND;TZID=Europe/London:20300314T193000
DTSTAMP:20260421T093103
CREATED:20150815T185751Z
LAST-MODIFIED:20221023T172707Z
UID:10006826-1899730800-1899747000@harlowmasonichall.co.uk
SUMMARY:Ixion Lodge 2501 - Meeting (Temple).
DESCRIPTION:Ixion 2501 Lodge meetings take place in the Temple on the \n2nd Thursday in September \n3rd Thursday in November \n2nd Thursday in March\, May (I) and July
URL:https://harlowmasonichall.co.uk/event/ixion-2501-meeting-temple/2030-03-14/
LOCATION:Temple: Meeting
CATEGORIES:Temple Meeting
GEO:35.7583847;-78.7433478
END:VEVENT
BEGIN:VEVENT
DTSTART;TZID=Europe/London:20300509T150000
DTEND;TZID=Europe/London:20300509T193000
DTSTAMP:20260421T093103
CREATED:20150815T185751Z
LAST-MODIFIED:20221023T172707Z
UID:10007637-1904569200-1904585400@harlowmasonichall.co.uk
SUMMARY:Ixion Lodge 2501 - Meeting (Temple).
DESCRIPTION:Ixion 2501 Lodge meetings take place in the Temple on the \n2nd Thursday in September \n3rd Thursday in November \n2nd Thursday in March\, May (I) and July
URL:https://harlowmasonichall.co.uk/event/ixion-2501-meeting-temple/2030-05-09/
LOCATION:Temple: Meeting
CATEGORIES:Temple Meeting
GEO:35.7583847;-78.7433478
END:VEVENT
BEGIN:VEVENT
DTSTART;TZID=Europe/London:20300711T150000
DTEND;TZID=Europe/London:20300711T193000
DTSTAMP:20260421T093103
CREATED:20150815T185751Z
LAST-MODIFIED:20221023T172707Z
UID:10007805-1910012400-1910028600@harlowmasonichall.co.uk
SUMMARY:Ixion Lodge 2501 - Meeting (Temple).
DESCRIPTION:Ixion 2501 Lodge meetings take place in the Temple on the \n2nd Thursday in September \n3rd Thursday in November \n2nd Thursday in March\, May (I) and July
URL:https://harlowmasonichall.co.uk/event/ixion-2501-meeting-temple/2030-07-11/
LOCATION:Temple: Meeting
CATEGORIES:Temple Meeting
GEO:35.7583847;-78.7433478
END:VEVENT
BEGIN:VEVENT
DTSTART;TZID=Europe/London:20300912T150000
DTEND;TZID=Europe/London:20300912T193000
DTSTAMP:20260421T093103
CREATED:20150815T185751Z
LAST-MODIFIED:20221023T172707Z
UID:10008041-1915455600-1915471800@harlowmasonichall.co.uk
SUMMARY:Ixion Lodge 2501 - Meeting (Temple).
DESCRIPTION:Ixion 2501 Lodge meetings take place in the Temple on the \n2nd Thursday in September \n3rd Thursday in November \n2nd Thursday in March\, May (I) and July
URL:https://harlowmasonichall.co.uk/event/ixion-2501-meeting-temple/2030-09-12/
LOCATION:Temple: Meeting
CATEGORIES:Temple Meeting
GEO:35.7583847;-78.7433478
END:VEVENT
BEGIN:VEVENT
DTSTART;TZID=Europe/London:20301121T150000
DTEND;TZID=Europe/London:20301121T193000
DTSTAMP:20260421T093103
CREATED:20221214T113700Z
LAST-MODIFIED:20231228T212532Z
UID:10010993-1921503600-1921519800@harlowmasonichall.co.uk
SUMMARY:Ixion Lodge 2501 - Meeting (Temple).
DESCRIPTION:Ixion 2501 Lodge meetings take place in the Temple on the \n2nd Thursday in September \n3rd Thursday in November \n2nd Thursday in March\, May (I) and July
URL:https://harlowmasonichall.co.uk/event/ixion-lodge-2501-meeting-temple-3-2/2030-11-21/
LOCATION:Temple: Meeting
CATEGORIES:Temple Meeting
GEO:35.7583847;-78.7433478
END:VEVENT
BEGIN:VEVENT
DTSTART;TZID=Europe/London:20310313T150000
DTEND;TZID=Europe/London:20310313T193000
DTSTAMP:20260421T093103
CREATED:20150815T185751Z
LAST-MODIFIED:20221023T172707Z
UID:10010615-1931180400-1931196600@harlowmasonichall.co.uk
SUMMARY:Ixion Lodge 2501 - Meeting (Temple).
DESCRIPTION:Ixion 2501 Lodge meetings take place in the Temple on the \n2nd Thursday in September \n3rd Thursday in November \n2nd Thursday in March\, May (I) and July
URL:https://harlowmasonichall.co.uk/event/ixion-2501-meeting-temple/2031-03-13/
LOCATION:Temple: Meeting
CATEGORIES:Temple Meeting
GEO:35.7583847;-78.7433478
END:VEVENT
BEGIN:VEVENT
DTSTART;TZID=Europe/London:20310508T150000
DTEND;TZID=Europe/London:20310508T193000
DTSTAMP:20260421T093103
CREATED:20150815T185751Z
LAST-MODIFIED:20221023T172707Z
UID:10010695-1936018800-1936035000@harlowmasonichall.co.uk
SUMMARY:Ixion Lodge 2501 - Meeting (Temple).
DESCRIPTION:Ixion 2501 Lodge meetings take place in the Temple on the \n2nd Thursday in September \n3rd Thursday in November \n2nd Thursday in March\, May (I) and July
URL:https://harlowmasonichall.co.uk/event/ixion-2501-meeting-temple/2031-05-08/
LOCATION:Temple: Meeting
CATEGORIES:Temple Meeting
GEO:35.7583847;-78.7433478
END:VEVENT
BEGIN:VEVENT
DTSTART;TZID=Europe/London:20310710T150000
DTEND;TZID=Europe/London:20310710T193000
DTSTAMP:20260421T093103
CREATED:20150815T185751Z
LAST-MODIFIED:20221023T172707Z
UID:10010737-1941462000-1941478200@harlowmasonichall.co.uk
SUMMARY:Ixion Lodge 2501 - Meeting (Temple).
DESCRIPTION:Ixion 2501 Lodge meetings take place in the Temple on the \n2nd Thursday in September \n3rd Thursday in November \n2nd Thursday in March\, May (I) and July
URL:https://harlowmasonichall.co.uk/event/ixion-2501-meeting-temple/2031-07-10/
LOCATION:Temple: Meeting
CATEGORIES:Temple Meeting
GEO:35.7583847;-78.7433478
END:VEVENT
BEGIN:VEVENT
DTSTART;TZID=Europe/London:20310911T150000
DTEND;TZID=Europe/London:20310911T193000
DTSTAMP:20260421T093103
CREATED:20150815T185751Z
LAST-MODIFIED:20221023T172707Z
UID:10010851-1946905200-1946921400@harlowmasonichall.co.uk
SUMMARY:Ixion Lodge 2501 - Meeting (Temple).
DESCRIPTION:Ixion 2501 Lodge meetings take place in the Temple on the \n2nd Thursday in September \n3rd Thursday in November \n2nd Thursday in March\, May (I) and July
URL:https://harlowmasonichall.co.uk/event/ixion-2501-meeting-temple/2031-09-11/
LOCATION:Temple: Meeting
CATEGORIES:Temple Meeting
GEO:35.7583847;-78.7433478
END:VEVENT
BEGIN:VEVENT
DTSTART;TZID=Europe/London:20311120T150000
DTEND;TZID=Europe/London:20311120T193000
DTSTAMP:20260421T093103
CREATED:20221214T113700Z
LAST-MODIFIED:20231228T212532Z
UID:10010994-1952953200-1952969400@harlowmasonichall.co.uk
SUMMARY:Ixion Lodge 2501 - Meeting (Temple).
DESCRIPTION:Ixion 2501 Lodge meetings take place in the Temple on the \n2nd Thursday in September \n3rd Thursday in November \n2nd Thursday in March\, May (I) and July
URL:https://harlowmasonichall.co.uk/event/ixion-lodge-2501-meeting-temple-3-2/2031-11-20/
LOCATION:Temple: Meeting
CATEGORIES:Temple Meeting
GEO:35.7583847;-78.7433478
END:VEVENT
BEGIN:VEVENT
DTSTART;TZID=Europe/London:20320311T150000
DTEND;TZID=Europe/London:20320311T193000
DTSTAMP:20260421T093103
CREATED:20150815T185751Z
LAST-MODIFIED:20221023T172707Z
UID:10011245-1962630000-1962646200@harlowmasonichall.co.uk
SUMMARY:Ixion Lodge 2501 - Meeting (Temple).
DESCRIPTION:Ixion 2501 Lodge meetings take place in the Temple on the \n2nd Thursday in September \n3rd Thursday in November \n2nd Thursday in March\, May (I) and July
URL:https://harlowmasonichall.co.uk/event/ixion-2501-meeting-temple/2032-03-11/
LOCATION:Temple: Meeting
CATEGORIES:Temple Meeting
GEO:35.7583847;-78.7433478
END:VEVENT
END:VCALENDAR