BEGIN:VCALENDAR
VERSION:2.0
PRODID:-//Harlow Masonic Hall - ECPv6.15.20//NONSGML v1.0//EN
CALSCALE:GREGORIAN
METHOD:PUBLISH
X-ORIGINAL-URL:https://harlowmasonichall.co.uk
X-WR-CALDESC:Events for Harlow Masonic Hall
REFRESH-INTERVAL;VALUE=DURATION:PT1H
X-Robots-Tag:noindex
X-PUBLISHED-TTL:PT1H
BEGIN:VTIMEZONE
TZID:Europe/London
BEGIN:DAYLIGHT
TZOFFSETFROM:+0000
TZOFFSETTO:+0100
TZNAME:BST
DTSTART:20280326T010000
END:DAYLIGHT
BEGIN:STANDARD
TZOFFSETFROM:+0100
TZOFFSETTO:+0000
TZNAME:GMT
DTSTART:20281029T010000
END:STANDARD
BEGIN:DAYLIGHT
TZOFFSETFROM:+0000
TZOFFSETTO:+0100
TZNAME:BST
DTSTART:20290325T010000
END:DAYLIGHT
BEGIN:STANDARD
TZOFFSETFROM:+0100
TZOFFSETTO:+0000
TZNAME:GMT
DTSTART:20291028T010000
END:STANDARD
BEGIN:DAYLIGHT
TZOFFSETFROM:+0000
TZOFFSETTO:+0100
TZNAME:BST
DTSTART:20300331T010000
END:DAYLIGHT
BEGIN:STANDARD
TZOFFSETFROM:+0100
TZOFFSETTO:+0000
TZNAME:GMT
DTSTART:20301027T010000
END:STANDARD
END:VTIMEZONE
BEGIN:VEVENT
DTSTART;TZID=Europe/London:20290703T193000
DTEND;TZID=Europe/London:20290703T213000
DTSTAMP:20260422T180022
CREATED:20241018T094707Z
LAST-MODIFIED:20241024T110638Z
UID:10010091-1877801400-1877808600@harlowmasonichall.co.uk
SUMMARY:Ixion Lodge 2501 – LoI (Temple (1))
DESCRIPTION:
URL:https://harlowmasonichall.co.uk/event/ixion-lodge-2501-loi-temple-6-2/2029-07-03/
LOCATION:Temple: LOI
CATEGORIES:Temple LoI/CoI
GEO:17.4860232;101.7223002
END:VEVENT
BEGIN:VEVENT
DTSTART;TZID=Europe/London:20290706T150000
DTEND;TZID=Europe/London:20290706T193000
DTSTAMP:20260422T180022
CREATED:20221202T183946Z
LAST-MODIFIED:20240324T195346Z
UID:10006675-1878044400-1878060600@harlowmasonichall.co.uk
SUMMARY:Thomas Howard Council 158 - Meeting (Temple)
DESCRIPTION:Thomas Howard Council 158 Lodge meetings take place in the Temple on the \n3rd Friday in November and February \n1st Friday in July
URL:https://harlowmasonichall.co.uk/event/thomas-howard-council-158-meeting-temple/2029-07-06/
LOCATION:Temple: Meeting
CATEGORIES:Temple Meeting
GEO:35.7583847;-78.7433478
END:VEVENT
BEGIN:VEVENT
DTSTART;TZID=Europe/London:20290707T150000
DTEND;TZID=Europe/London:20290707T193000
DTSTAMP:20260422T180022
CREATED:20221022T141347Z
LAST-MODIFIED:20241016T152751Z
UID:10006881-1878130800-1878147000@harlowmasonichall.co.uk
SUMMARY:Ixion Chapter 2501 Meeting (Temple)
DESCRIPTION:Ixion Chapter 2501 meetings take place in the Temple on the \n4th Saturday in October (I) and April \n1st Saturday in July
URL:https://harlowmasonichall.co.uk/event/ixion-2501-meeting-temple-2-2020-04-25-2/2029-07-07/
LOCATION:Temple: Meeting
CATEGORIES:Temple Meeting
ORGANIZER;CN="C2501":MAILTO:steve.q.nottage@gmail.com
GEO:35.7583847;-78.7433478
END:VEVENT
BEGIN:VEVENT
DTSTART;TZID=Europe/London:20290709T193000
DTEND;TZID=Europe/London:20290709T213000
DTSTAMP:20260422T180022
CREATED:20221219T105053Z
LAST-MODIFIED:20241118T202758Z
UID:10007859-1878319800-1878327000@harlowmasonichall.co.uk
SUMMARY:Netteswell Cross Lodge 9280 – LoI (Temple (2))
DESCRIPTION:
URL:https://harlowmasonichall.co.uk/event/netteswell-cross-lodge-9280-loi-temple-2/2029-07-09/
LOCATION:Temple: LOI
CATEGORIES:Temple LoI/CoI
ORGANIZER;CN="L9280":MAILTO:steveadnitt@aol.com
GEO:17.4860232;101.7223002
END:VEVENT
BEGIN:VEVENT
DTSTART;TZID=Europe/London:20290710T193000
DTEND;TZID=Europe/London:20290710T213000
DTSTAMP:20260422T180022
CREATED:20241016T155356Z
LAST-MODIFIED:20241024T110747Z
UID:10009282-1878406200-1878413400@harlowmasonichall.co.uk
SUMMARY:Ixion Lodge 2501 – LoI (Temple (2))
DESCRIPTION:
URL:https://harlowmasonichall.co.uk/event/ixion-lodge-2501-loi-temple-10-3/2029-07-10/
LOCATION:Temple: LOI
CATEGORIES:Temple LoI/CoI
GEO:17.4860232;101.7223002
END:VEVENT
BEGIN:VEVENT
DTSTART;TZID=Europe/London:20290712T150000
DTEND;TZID=Europe/London:20290712T193000
DTSTAMP:20260422T180022
CREATED:20150815T185751Z
LAST-MODIFIED:20221023T172707Z
UID:10006824-1878562800-1878579000@harlowmasonichall.co.uk
SUMMARY:Ixion Lodge 2501 - Meeting (Temple).
DESCRIPTION:Ixion 2501 Lodge meetings take place in the Temple on the \n2nd Thursday in September \n3rd Thursday in November \n2nd Thursday in March\, May (I) and July
URL:https://harlowmasonichall.co.uk/event/ixion-2501-meeting-temple/2029-07-12/
LOCATION:Temple: Meeting
CATEGORIES:Temple Meeting
GEO:35.7583847;-78.7433478
END:VEVENT
BEGIN:VEVENT
DTSTART;TZID=Europe/London:20290714T150000
DTEND;TZID=Europe/London:20290714T193000
DTSTAMP:20260422T180022
CREATED:20221024T202155Z
LAST-MODIFIED:20241016T152825Z
UID:10006680-1878735600-1878751800@harlowmasonichall.co.uk
SUMMARY:Deo Confidimus 6253 - Meeting (Temple)
DESCRIPTION:Deo Confidimus 6253 Lodge meetings take place in the Temple on the \n1st Saturday in November \n3rd Saturday in February \n1st Saturday in April \n2nd Saturday in July
URL:https://harlowmasonichall.co.uk/event/deo-confidimus-6253-meeting-temple-2/2029-07-14/
LOCATION:Temple: Meeting
CATEGORIES:Temple Meeting
ORGANIZER;CN="L6253":MAILTO:WVO3976@ilf0rd.co.uk
GEO:35.7583847;-78.7433478
END:VEVENT
BEGIN:VEVENT
DTSTART;TZID=Europe/London:20290723T193000
DTEND;TZID=Europe/London:20290723T213000
DTSTAMP:20260422T180022
CREATED:20221219T104754Z
LAST-MODIFIED:20241117T180954Z
UID:10009186-1879529400-1879536600@harlowmasonichall.co.uk
SUMMARY:Netteswell Cross Lodge 9280 – LoI (Shepherd Room (4))
DESCRIPTION:
URL:https://harlowmasonichall.co.uk/event/netteswell-cross-lodge-9280-loi-shepherd-room-3/2029-07-23/
LOCATION:Shepherd Room: LOI
CATEGORIES:Shepherd Room
ORGANIZER;CN="L9280":MAILTO:steveadnitt@aol.com
GEO:17.4860232;101.7223002
END:VEVENT
BEGIN:VEVENT
DTSTART;TZID=Europe/London:20290723T193000
DTEND;TZID=Europe/London:20290723T213000
DTSTAMP:20260422T180022
CREATED:20221219T105319Z
LAST-MODIFIED:20241118T201909Z
UID:10008733-1879529400-1879536600@harlowmasonichall.co.uk
SUMMARY:Netteswell Cross Lodge 9280 – LoI (Temple (4))
DESCRIPTION:
URL:https://harlowmasonichall.co.uk/event/netteswell-cross-lodge-9280-loi-temple-4/2029-07-23/
LOCATION:Temple: LOI
CATEGORIES:Temple LoI/CoI
ORGANIZER;CN="L9280":MAILTO:steveadnitt@aol.com
GEO:17.4860232;101.7223002
END:VEVENT
BEGIN:VEVENT
DTSTART;TZID=Europe/London:20290724T193000
DTEND;TZID=Europe/London:20290724T213000
DTSTAMP:20260422T180022
CREATED:20231228T214311Z
LAST-MODIFIED:20241017T131958Z
UID:10009289-1879615800-1879623000@harlowmasonichall.co.uk
SUMMARY:Ixion Lodge 2501 – LoI (Temple (4))
DESCRIPTION:
URL:https://harlowmasonichall.co.uk/event/ixion-lodge-2501-loi-temple-8/2029-07-24/
LOCATION:Temple: LOI
CATEGORIES:Temple LoI/CoI
GEO:17.4860232;101.7223002
END:VEVENT
END:VCALENDAR