BEGIN:VCALENDAR
VERSION:2.0
PRODID:-//Harlow Masonic Hall - ECPv6.15.20//NONSGML v1.0//EN
CALSCALE:GREGORIAN
METHOD:PUBLISH
X-ORIGINAL-URL:https://harlowmasonichall.co.uk
X-WR-CALDESC:Events for Harlow Masonic Hall
REFRESH-INTERVAL;VALUE=DURATION:PT1H
X-Robots-Tag:noindex
X-PUBLISHED-TTL:PT1H
BEGIN:VTIMEZONE
TZID:Europe/London
BEGIN:DAYLIGHT
TZOFFSETFROM:+0000
TZOFFSETTO:+0100
TZNAME:BST
DTSTART:20270328T010000
END:DAYLIGHT
BEGIN:STANDARD
TZOFFSETFROM:+0100
TZOFFSETTO:+0000
TZNAME:GMT
DTSTART:20271031T010000
END:STANDARD
BEGIN:DAYLIGHT
TZOFFSETFROM:+0000
TZOFFSETTO:+0100
TZNAME:BST
DTSTART:20280326T010000
END:DAYLIGHT
BEGIN:STANDARD
TZOFFSETFROM:+0100
TZOFFSETTO:+0000
TZNAME:GMT
DTSTART:20281029T010000
END:STANDARD
BEGIN:DAYLIGHT
TZOFFSETFROM:+0000
TZOFFSETTO:+0100
TZNAME:BST
DTSTART:20290325T010000
END:DAYLIGHT
BEGIN:STANDARD
TZOFFSETFROM:+0100
TZOFFSETTO:+0000
TZNAME:GMT
DTSTART:20291028T010000
END:STANDARD
END:VTIMEZONE
BEGIN:VEVENT
DTSTART;TZID=Europe/London:20280801T193000
DTEND;TZID=Europe/London:20280801T213000
DTSTAMP:20260422T013300
CREATED:20241018T094707Z
LAST-MODIFIED:20241024T110638Z
UID:10010085-1848771000-1848778200@harlowmasonichall.co.uk
SUMMARY:Ixion Lodge 2501 – LoI (Temple (1))
DESCRIPTION:
URL:https://harlowmasonichall.co.uk/event/ixion-lodge-2501-loi-temple-6-2/2028-08-01/
LOCATION:Temple: LOI
CATEGORIES:Temple LoI/CoI
GEO:17.4860232;101.7223002
END:VEVENT
BEGIN:VEVENT
DTSTART;TZID=Europe/London:20280803T193000
DTEND;TZID=Europe/London:20280803T213000
DTSTAMP:20260422T013300
CREATED:20221216T115358Z
LAST-MODIFIED:20241023T142559Z
UID:10005521-1848943800-1848951000@harlowmasonichall.co.uk
SUMMARY:Eton Manor 8438 - LoI (Shepherd Room (1))
DESCRIPTION:
URL:https://harlowmasonichall.co.uk/event/eton-manor-8438-loi-shepherd-room-10/2028-08-03/
LOCATION:Shepherd Room: LOI
CATEGORIES:Shepherd Room
ORGANIZER;CN="L8438":MAILTO:rikki.double@btinternet.com
GEO:17.4860232;101.7223002
END:VEVENT
BEGIN:VEVENT
DTSTART;TZID=Europe/London:20280810T193000
DTEND;TZID=Europe/London:20280810T213000
DTSTAMP:20260422T013300
CREATED:20221216T113605Z
LAST-MODIFIED:20241023T142623Z
UID:10007119-1849548600-1849555800@harlowmasonichall.co.uk
SUMMARY:Eton Manor 8438 - LoI (Shepherd Room (2))
DESCRIPTION:
URL:https://harlowmasonichall.co.uk/event/eton-manor-8438-loi-shepherd-room-2/2028-08-10/
LOCATION:Shepherd Room: LOI
CATEGORIES:Shepherd Room
ORGANIZER;CN="L8438":MAILTO:rikki.double@btinternet.com
GEO:17.4860232;101.7223002
END:VEVENT
BEGIN:VEVENT
DTSTART;TZID=Europe/London:20280810T193000
DTEND;TZID=Europe/London:20280810T213000
DTSTAMP:20260422T013300
CREATED:20221229T160859Z
LAST-MODIFIED:20241023T143831Z
UID:10007930-1849548600-1849555800@harlowmasonichall.co.uk
SUMMARY:Monkham's Lodge 4161 - LoI (Temple (2))
DESCRIPTION:
URL:https://harlowmasonichall.co.uk/event/monkhams-lodge-4161-loi-temple-4/2028-08-10/
LOCATION:Temple: LOI
CATEGORIES:Temple LoI/CoI
ORGANIZER;CN="L4161":MAILTO:bonneville-pete@virginmedia.com
GEO:17.4860232;101.7223002
END:VEVENT
BEGIN:VEVENT
DTSTART;TZID=Europe/London:20280815T193000
DTEND;TZID=Europe/London:20280815T213000
DTSTAMP:20260422T013300
CREATED:20231228T214042Z
LAST-MODIFIED:20241017T131458Z
UID:10008518-1849980600-1849987800@harlowmasonichall.co.uk
SUMMARY:Ixion Lodge 2501 – LoI (Temple (3))
DESCRIPTION:
URL:https://harlowmasonichall.co.uk/event/ixion-lodge-2501-loi-temple-7/2028-08-15/
LOCATION:Temple: LOI
CATEGORIES:Temple LoI/CoI
GEO:17.4860232;101.7223002
END:VEVENT
BEGIN:VEVENT
DTSTART;TZID=Europe/London:20280817T193000
DTEND;TZID=Europe/London:20280817T213000
DTSTAMP:20260422T013300
CREATED:20221216T113700Z
LAST-MODIFIED:20241023T142506Z
UID:10007172-1850153400-1850160600@harlowmasonichall.co.uk
SUMMARY:Eton Manor 8438 - LoI (Shepherd Room (3))
DESCRIPTION:
URL:https://harlowmasonichall.co.uk/event/eton-manor-8438-loi-shepherd-room-3/2028-08-17/
LOCATION:Shepherd Room: LOI
CATEGORIES:Shepherd Room
ORGANIZER;CN="L8438":MAILTO:rikki.double@btinternet.com
GEO:17.4860232;101.7223002
END:VEVENT
BEGIN:VEVENT
DTSTART;TZID=Europe/London:20280817T193000
DTEND;TZID=Europe/London:20280817T213000
DTSTAMP:20260422T013300
CREATED:20221216T175213Z
LAST-MODIFIED:20241023T143552Z
UID:10007054-1850153400-1850160600@harlowmasonichall.co.uk
SUMMARY:Monkham's Lodge 4161 - LoI (Temple (3))
DESCRIPTION:
URL:https://harlowmasonichall.co.uk/event/new-monkhams-lodge-4161-loi-temple-2021-10-21-2021-11-18-3/2028-08-17/
LOCATION:Temple: LOI
CATEGORIES:Temple LoI/CoI
ORGANIZER;CN="L4161":MAILTO:bonneville-pete@virginmedia.com
GEO:17.4860232;101.7223002
END:VEVENT
BEGIN:VEVENT
DTSTART;TZID=Europe/London:20280821T193000
DTEND;TZID=Europe/London:20280821T213000
DTSTAMP:20260422T013300
CREATED:20210622T071746Z
LAST-MODIFIED:20241122T192150Z
UID:10006754-1850499000-1850506200@harlowmasonichall.co.uk
SUMMARY:HMH Board of Directors Accounts Meeting (Dining Room)
DESCRIPTION:Presentation of accounts.
URL:https://harlowmasonichall.co.uk/event/hmh-board-of-directors-meeting-dining-room-3-2022-08-01/2028-08-21/
LOCATION:Dining Room
CATEGORIES:Dining Room
GEO:42.3382873;-82.9449862
END:VEVENT
BEGIN:VEVENT
DTSTART;TZID=Europe/London:20280821T193000
DTEND;TZID=Europe/London:20280821T213000
DTSTAMP:20260422T013300
CREATED:20221219T105153Z
LAST-MODIFIED:20241118T202241Z
UID:10007145-1850499000-1850506200@harlowmasonichall.co.uk
SUMMARY:Netteswell Cross Lodge 9280 – LoI (Temple (3))
DESCRIPTION:
URL:https://harlowmasonichall.co.uk/event/netteswell-cross-lodge-9280-loi-temple-3/2028-08-21/
LOCATION:Temple: LOI
CATEGORIES:Temple LoI/CoI
ORGANIZER;CN="L9280":MAILTO:steveadnitt@aol.com
GEO:17.4860232;101.7223002
END:VEVENT
BEGIN:VEVENT
DTSTART;TZID=Europe/London:20280823T193000
DTEND;TZID=Europe/London:20280823T213000
DTSTAMP:20260422T013300
CREATED:20241016T153940Z
LAST-MODIFIED:20250907T140553Z
UID:10010231-1850671800-1850679000@harlowmasonichall.co.uk
SUMMARY:Harlowbury Lodge 7795 - LoI (Shepherd Room (4))
DESCRIPTION:
URL:https://harlowmasonichall.co.uk/event/harlowbury-lodge-7795-loi-shepherd-room-3-3/2028-08-23/
LOCATION:Shepherd Room: LOI
CATEGORIES:Shepherd Room
GEO:17.4860232;101.7223002
END:VEVENT
BEGIN:VEVENT
DTSTART;TZID=Europe/London:20280824T150000
DTEND;TZID=Europe/London:20280824T193000
DTSTAMP:20260422T013300
CREATED:20201007T133314Z
LAST-MODIFIED:20221222T133540Z
UID:10005302-1850742000-1850758200@harlowmasonichall.co.uk
SUMMARY:The Potter Street Council 182 (Temple)
DESCRIPTION:Potter Street Council 182 Lodge meetings take place in the Temple on the \n  \n3rd Monday in December \n4th Friday in May \n4th Thursday in August
URL:https://harlowmasonichall.co.uk/event/the-potter-street-council-182-temple-2/2028-08-24/
LOCATION:Temple: Meeting
CATEGORIES:Temple Meeting
GEO:35.7583847;-78.7433478
END:VEVENT
BEGIN:VEVENT
DTSTART;TZID=Europe/London:20280824T193000
DTEND;TZID=Europe/London:20280824T213000
DTSTAMP:20260422T013300
CREATED:20221022T141057Z
LAST-MODIFIED:20241023T143527Z
UID:10007608-1850758200-1850765400@harlowmasonichall.co.uk
SUMMARY:Monkham's Lodge 4161 - LoI (Temple (4))
DESCRIPTION:
URL:https://harlowmasonichall.co.uk/event/new-monkhams-lodge-4161-loi-temple-2021-10-21-2021-11-18-2/2028-08-24/
LOCATION:Temple: LOI
CATEGORIES:Temple LoI/CoI
ORGANIZER;CN="L4161":MAILTO:bonneville-pete@virginmedia.com
GEO:17.4860232;101.7223002
END:VEVENT
BEGIN:VEVENT
DTSTART;TZID=Europe/London:20280824T193000
DTEND;TZID=Europe/London:20280824T213000
DTSTAMP:20260422T013300
CREATED:20221216T113857Z
LAST-MODIFIED:20241023T142528Z
UID:10007225-1850758200-1850765400@harlowmasonichall.co.uk
SUMMARY:Eton Manor 8438 - LoI (Shepherd Room (4))
DESCRIPTION:
URL:https://harlowmasonichall.co.uk/event/eton-manor-8438-loi-shepherd-room-4/2028-08-24/
LOCATION:Shepherd Room: LOI
CATEGORIES:Shepherd Room
ORGANIZER;CN="L8438":MAILTO:rikki.double@btinternet.com
GEO:17.4860232;101.7223002
END:VEVENT
BEGIN:VEVENT
DTSTART;TZID=Europe/London:20280828T193000
DTEND;TZID=Europe/London:20280828T213000
DTSTAMP:20260422T013300
CREATED:20221219T105319Z
LAST-MODIFIED:20241118T201909Z
UID:10007188-1851103800-1851111000@harlowmasonichall.co.uk
SUMMARY:Netteswell Cross Lodge 9280 – LoI (Temple (4))
DESCRIPTION:
URL:https://harlowmasonichall.co.uk/event/netteswell-cross-lodge-9280-loi-temple-4/2028-08-28/
LOCATION:Temple: LOI
CATEGORIES:Temple LoI/CoI
ORGANIZER;CN="L9280":MAILTO:steveadnitt@aol.com
GEO:17.4860232;101.7223002
END:VEVENT
BEGIN:VEVENT
DTSTART;TZID=Europe/London:20280831T193000
DTEND;TZID=Europe/London:20280831T213000
DTSTAMP:20260422T013300
CREATED:20221216T114710Z
LAST-MODIFIED:20241023T144401Z
UID:10007975-1851363000-1851370200@harlowmasonichall.co.uk
SUMMARY:Eton Manor 8438 - LoI (Temple (5))
DESCRIPTION:
URL:https://harlowmasonichall.co.uk/event/eton-manor-8438-loi-shepherd-room-9/2028-08-31/
LOCATION:Temple: LOI
CATEGORIES:Temple LoI/CoI
ORGANIZER;CN="L8438":MAILTO:rikki.double@btinternet.com
GEO:17.4860232;101.7223002
END:VEVENT
END:VCALENDAR