BEGIN:VCALENDAR
VERSION:2.0
PRODID:-//Harlow Masonic Hall - ECPv6.15.20//NONSGML v1.0//EN
CALSCALE:GREGORIAN
METHOD:PUBLISH
X-WR-CALNAME:Harlow Masonic Hall
X-ORIGINAL-URL:https://harlowmasonichall.co.uk
X-WR-CALDESC:Events for Harlow Masonic Hall
REFRESH-INTERVAL;VALUE=DURATION:PT1H
X-Robots-Tag:noindex
X-PUBLISHED-TTL:PT1H
BEGIN:VTIMEZONE
TZID:Europe/London
BEGIN:DAYLIGHT
TZOFFSETFROM:+0000
TZOFFSETTO:+0100
TZNAME:BST
DTSTART:20240331T010000
END:DAYLIGHT
BEGIN:STANDARD
TZOFFSETFROM:+0100
TZOFFSETTO:+0000
TZNAME:GMT
DTSTART:20241027T010000
END:STANDARD
BEGIN:DAYLIGHT
TZOFFSETFROM:+0000
TZOFFSETTO:+0100
TZNAME:BST
DTSTART:20250330T010000
END:DAYLIGHT
BEGIN:STANDARD
TZOFFSETFROM:+0100
TZOFFSETTO:+0000
TZNAME:GMT
DTSTART:20251026T010000
END:STANDARD
BEGIN:DAYLIGHT
TZOFFSETFROM:+0000
TZOFFSETTO:+0100
TZNAME:BST
DTSTART:20260329T010000
END:DAYLIGHT
BEGIN:STANDARD
TZOFFSETFROM:+0100
TZOFFSETTO:+0000
TZNAME:GMT
DTSTART:20261025T010000
END:STANDARD
END:VTIMEZONE
BEGIN:VEVENT
DTSTART;TZID=Europe/London:20250429T193000
DTEND;TZID=Europe/London:20250429T213000
DTSTAMP:20260425T175424
CREATED:20231228T214445Z
LAST-MODIFIED:20251122T104154Z
UID:10008103-1745955000-1745962200@harlowmasonichall.co.uk
SUMMARY:Ixion Lodge 2501 – LoI (Temple (5))
DESCRIPTION:
URL:https://harlowmasonichall.co.uk/event/ixion-lodge-2501-loi-temple-9/2025-04-29/
LOCATION:Temple: LOI
CATEGORIES:Temple LoI/CoI
GEO:17.4860232;101.7223002
END:VEVENT
BEGIN:VEVENT
DTSTART;TZID=Europe/London:20250429T193000
DTEND;TZID=Europe/London:20250429T210000
DTSTAMP:20260425T175424
CREATED:20250411T155103Z
LAST-MODIFIED:20250411T155520Z
UID:10010656-1745955000-1745960400@harlowmasonichall.co.uk
SUMMARY:Essex Quadrant Chapter No. 7143 - CoI (Shepherd Room)
DESCRIPTION:
URL:https://harlowmasonichall.co.uk/event/essex-quadrant-chapter-no-7143-coi-shepherd-room/
LOCATION:Shepherd Room: LOI
CATEGORIES:Shepherd Room
ORGANIZER;CN="C7143":MAILTO:markpgodwin@hotmail.com
GEO:17.4860232;101.7223002
END:VEVENT
BEGIN:VEVENT
DTSTART;TZID=Europe/London:20250428T193000
DTEND;TZID=Europe/London:20250428T213000
DTSTAMP:20260425T175424
CREATED:20221219T105319Z
LAST-MODIFIED:20241118T201909Z
UID:10005083-1745868600-1745875800@harlowmasonichall.co.uk
SUMMARY:Netteswell Cross Lodge 9280 – LoI (Temple (4))
DESCRIPTION:
URL:https://harlowmasonichall.co.uk/event/netteswell-cross-lodge-9280-loi-temple-4/2025-04-28/
LOCATION:Temple: LOI
CATEGORIES:Temple LoI/CoI
ORGANIZER;CN="L9280":MAILTO:steveadnitt@aol.com
GEO:17.4860232;101.7223002
END:VEVENT
BEGIN:VEVENT
DTSTART;TZID=Europe/London:20250428T193000
DTEND;TZID=Europe/London:20250428T210000
DTSTAMP:20260425T175424
CREATED:20250424T065255Z
LAST-MODIFIED:20250424T065255Z
UID:10010674-1745868600-1745874000@harlowmasonichall.co.uk
SUMMARY:Ixion Lodge 2501 – LoI (Shepherd Room)
DESCRIPTION:
URL:https://harlowmasonichall.co.uk/event/ixion-lodge-2501-loi-shepherd-room-3/
LOCATION:Shepherd Room: LOI
CATEGORIES:Shepherd Room
GEO:17.4860232;101.7223002
END:VEVENT
BEGIN:VEVENT
DTSTART;TZID=Europe/London:20250428T150000
DTEND;TZID=Europe/London:20250428T193000
DTSTAMP:20260425T175424
CREATED:20151008T111430Z
LAST-MODIFIED:20221224T134852Z
UID:10004963-1745852400-1745868600@harlowmasonichall.co.uk
SUMMARY:St. Hugh Chapter Rose Croix 723 - Meeting (Temple)
DESCRIPTION:St. Hugh Chapter Rose Croix 723 Lodge meetings take place in the Temple on the \n4th Monday in November\, February and April
URL:https://harlowmasonichall.co.uk/event/st-hugh-chapter-rose-croix-723-temple/2025-04-28/
LOCATION:Temple: Meeting
CATEGORIES:Temple Meeting
GEO:35.7583847;-78.7433478
END:VEVENT
BEGIN:VEVENT
DTSTART;TZID=Europe/London:20250426T150000
DTEND;TZID=Europe/London:20250426T193000
DTSTAMP:20260425T175424
CREATED:20150815T192156Z
LAST-MODIFIED:20221229T090340Z
UID:10005034-1745679600-1745695800@harlowmasonichall.co.uk
SUMMARY:Ixion Chapter 2501 Meeting (Temple)
DESCRIPTION:Ixion Chapter 2501 meetings take place in the Temple on the \n4th Saturday in October (I) and April \n1st Saturday in July
URL:https://harlowmasonichall.co.uk/event/ixion-2501-meeting-temple-2-2020-04-25/2025-04-26/
LOCATION:Temple: Meeting
CATEGORIES:Temple Meeting
ORGANIZER;CN="C2501":MAILTO:steve.q.nottage@gmail.com
GEO:35.7583847;-78.7433478
END:VEVENT
BEGIN:VEVENT
DTSTART;TZID=Europe/London:20250425T030000
DTEND;TZID=Europe/London:20250425T193000
DTSTAMP:20260425T175424
CREATED:20221022T141038Z
LAST-MODIFIED:20240324T184022Z
UID:10006457-1745550000-1745609400@harlowmasonichall.co.uk
SUMMARY:Parndon Magna Lodge 8805 - Meeting (Temple)
DESCRIPTION:Parndon Magna 8805 Lodge Meetings take place in the Temple on the \n1st Friday in October (Installation)\, December and March \n4th Friday in April \nStart time is usually 6 pm but check the summons for details!
URL:https://harlowmasonichall.co.uk/event/parndon-magna-8805-meeting-temple-2/2025-04-25/
LOCATION:Temple: Meeting
CATEGORIES:Temple Meeting
ORGANIZER;CN="L8805":MAILTO:davepigram@msn.com
GEO:35.7583847;-78.7433478
END:VEVENT
END:VCALENDAR