BEGIN:VCALENDAR
VERSION:2.0
PRODID:-//Harlow Masonic Hall - ECPv6.15.20//NONSGML v1.0//EN
CALSCALE:GREGORIAN
METHOD:PUBLISH
X-WR-CALNAME:Harlow Masonic Hall
X-ORIGINAL-URL:https://harlowmasonichall.co.uk
X-WR-CALDESC:Events for Harlow Masonic Hall
REFRESH-INTERVAL;VALUE=DURATION:PT1H
X-Robots-Tag:noindex
X-PUBLISHED-TTL:PT1H
BEGIN:VTIMEZONE
TZID:Europe/London
BEGIN:DAYLIGHT
TZOFFSETFROM:+0000
TZOFFSETTO:+0100
TZNAME:BST
DTSTART:20240331T010000
END:DAYLIGHT
BEGIN:STANDARD
TZOFFSETFROM:+0100
TZOFFSETTO:+0000
TZNAME:GMT
DTSTART:20241027T010000
END:STANDARD
BEGIN:DAYLIGHT
TZOFFSETFROM:+0000
TZOFFSETTO:+0100
TZNAME:BST
DTSTART:20250330T010000
END:DAYLIGHT
BEGIN:STANDARD
TZOFFSETFROM:+0100
TZOFFSETTO:+0000
TZNAME:GMT
DTSTART:20251026T010000
END:STANDARD
BEGIN:DAYLIGHT
TZOFFSETFROM:+0000
TZOFFSETTO:+0100
TZNAME:BST
DTSTART:20260329T010000
END:DAYLIGHT
BEGIN:STANDARD
TZOFFSETFROM:+0100
TZOFFSETTO:+0000
TZNAME:GMT
DTSTART:20261025T010000
END:STANDARD
END:VTIMEZONE
BEGIN:VEVENT
DTSTART;TZID=Europe/London:20250426T150000
DTEND;TZID=Europe/London:20250426T193000
DTSTAMP:20260423T154538
CREATED:20150815T192156Z
LAST-MODIFIED:20221229T090340Z
UID:10005034-1745679600-1745695800@harlowmasonichall.co.uk
SUMMARY:Ixion Chapter 2501 Meeting (Temple)
DESCRIPTION:Ixion Chapter 2501 meetings take place in the Temple on the \n4th Saturday in October (I) and April \n1st Saturday in July
URL:https://harlowmasonichall.co.uk/event/ixion-2501-meeting-temple-2-2020-04-25/2025-04-26/
LOCATION:Temple: Meeting
CATEGORIES:Temple Meeting
ORGANIZER;CN="C2501":MAILTO:steve.q.nottage@gmail.com
GEO:35.7583847;-78.7433478
END:VEVENT
BEGIN:VEVENT
DTSTART;TZID=Europe/London:20250425T030000
DTEND;TZID=Europe/London:20250425T193000
DTSTAMP:20260423T154538
CREATED:20221022T141038Z
LAST-MODIFIED:20240324T184022Z
UID:10006457-1745550000-1745609400@harlowmasonichall.co.uk
SUMMARY:Parndon Magna Lodge 8805 - Meeting (Temple)
DESCRIPTION:Parndon Magna 8805 Lodge Meetings take place in the Temple on the \n1st Friday in October (Installation)\, December and March \n4th Friday in April \nStart time is usually 6 pm but check the summons for details!
URL:https://harlowmasonichall.co.uk/event/parndon-magna-8805-meeting-temple-2/2025-04-25/
LOCATION:Temple: Meeting
CATEGORIES:Temple Meeting
ORGANIZER;CN="L8805":MAILTO:davepigram@msn.com
GEO:35.7583847;-78.7433478
END:VEVENT
BEGIN:VEVENT
DTSTART;TZID=Europe/London:20250424T193000
DTEND;TZID=Europe/London:20250424T213000
DTSTAMP:20260423T154538
CREATED:20221216T113857Z
LAST-MODIFIED:20241023T142528Z
UID:10007209-1745523000-1745530200@harlowmasonichall.co.uk
SUMMARY:Eton Manor 8438 - LoI (Shepherd Room (4))
DESCRIPTION:
URL:https://harlowmasonichall.co.uk/event/eton-manor-8438-loi-shepherd-room-4/2025-04-24/
LOCATION:Shepherd Room: LOI
CATEGORIES:Shepherd Room
ORGANIZER;CN="L8438":MAILTO:rikki.double@btinternet.com
GEO:17.4860232;101.7223002
END:VEVENT
BEGIN:VEVENT
DTSTART;TZID=Europe/London:20250424T193000
DTEND;TZID=Europe/London:20250424T213000
DTSTAMP:20260423T154538
CREATED:20221022T141057Z
LAST-MODIFIED:20241023T143527Z
UID:10007595-1745523000-1745530200@harlowmasonichall.co.uk
SUMMARY:Monkham's Lodge 4161 - LoI (Temple (4))
DESCRIPTION:
URL:https://harlowmasonichall.co.uk/event/new-monkhams-lodge-4161-loi-temple-2021-10-21-2021-11-18-2/2025-04-24/
LOCATION:Temple: LOI
CATEGORIES:Temple LoI/CoI
ORGANIZER;CN="L4161":MAILTO:bonneville-pete@virginmedia.com
GEO:17.4860232;101.7223002
END:VEVENT
BEGIN:VEVENT
DTSTART;TZID=Europe/London:20250423T193000
DTEND;TZID=Europe/London:20250423T213000
DTSTAMP:20260423T154538
CREATED:20221220T210806Z
LAST-MODIFIED:20241017T114444Z
UID:10007382-1745436600-1745443800@harlowmasonichall.co.uk
SUMMARY:The Lodge of Borrowed Light 9054 – LoI (Shepherd Room (4))
DESCRIPTION:
URL:https://harlowmasonichall.co.uk/event/the-lodge-of-borrowed-light-9054-loi-shepherd-room-4/2025-04-23/
LOCATION:Shepherd Room: LOI
CATEGORIES:Shepherd Room
ORGANIZER;CN="L9054":MAILTO:Melvin@essexpackaging.co.uk
GEO:17.4860232;101.7223002
END:VEVENT
BEGIN:VEVENT
DTSTART;TZID=Europe/London:20250423T150000
DTEND;TZID=Europe/London:20250423T193000
DTSTAMP:20260423T154538
CREATED:20151008T154709Z
LAST-MODIFIED:20221222T130503Z
UID:10004974-1745420400-1745436600@harlowmasonichall.co.uk
SUMMARY:Potter’s Clay Lodge MMM 1399 - Meeting (Temple)
DESCRIPTION:Potter’s Clay Lodge MMM 1399 meetings take place in the Temple on the \n4th Wednesday in November\, February and April
URL:https://harlowmasonichall.co.uk/event/potters-clay-lodge-mmm-1399-temple/2025-04-23/
LOCATION:Temple: Meeting
CATEGORIES:Temple Meeting
GEO:35.7583847;-78.7433478
END:VEVENT
END:VCALENDAR