BEGIN:VCALENDAR
VERSION:2.0
PRODID:-//Harlow Masonic Hall - ECPv6.15.20//NONSGML v1.0//EN
CALSCALE:GREGORIAN
METHOD:PUBLISH
X-WR-CALNAME:Harlow Masonic Hall
X-ORIGINAL-URL:https://harlowmasonichall.co.uk
X-WR-CALDESC:Events for Harlow Masonic Hall
REFRESH-INTERVAL;VALUE=DURATION:PT1H
X-Robots-Tag:noindex
X-PUBLISHED-TTL:PT1H
BEGIN:VTIMEZONE
TZID:Europe/London
BEGIN:DAYLIGHT
TZOFFSETFROM:+0000
TZOFFSETTO:+0100
TZNAME:BST
DTSTART:20290325T010000
END:DAYLIGHT
BEGIN:STANDARD
TZOFFSETFROM:+0100
TZOFFSETTO:+0000
TZNAME:GMT
DTSTART:20291028T010000
END:STANDARD
BEGIN:DAYLIGHT
TZOFFSETFROM:+0000
TZOFFSETTO:+0100
TZNAME:BST
DTSTART:20300331T010000
END:DAYLIGHT
BEGIN:STANDARD
TZOFFSETFROM:+0100
TZOFFSETTO:+0000
TZNAME:GMT
DTSTART:20301027T010000
END:STANDARD
BEGIN:DAYLIGHT
TZOFFSETFROM:+0000
TZOFFSETTO:+0100
TZNAME:BST
DTSTART:20310330T010000
END:DAYLIGHT
BEGIN:STANDARD
TZOFFSETFROM:+0100
TZOFFSETTO:+0000
TZNAME:GMT
DTSTART:20311026T010000
END:STANDARD
END:VTIMEZONE
BEGIN:VEVENT
DTSTART;TZID=Europe/London:20300806T193000
DTEND;TZID=Europe/London:20300806T213000
DTSTAMP:20260422T205138
CREATED:20241018T094707Z
LAST-MODIFIED:20241024T110638Z
UID:10010099-1912275000-1912282200@harlowmasonichall.co.uk
SUMMARY:Ixion Lodge 2501 – LoI (Temple (1))
DESCRIPTION:
URL:https://harlowmasonichall.co.uk/event/ixion-lodge-2501-loi-temple-6-2/2030-08-06/
LOCATION:Temple: LOI
CATEGORIES:Temple LoI/CoI
GEO:17.4860232;101.7223002
END:VEVENT
BEGIN:VEVENT
DTSTART;TZID=Europe/London:20300808T193000
DTEND;TZID=Europe/London:20300808T213000
DTSTAMP:20260422T205138
CREATED:20221229T160859Z
LAST-MODIFIED:20241023T143831Z
UID:10007934-1912447800-1912455000@harlowmasonichall.co.uk
SUMMARY:Monkham's Lodge 4161 - LoI (Temple (2))
DESCRIPTION:
URL:https://harlowmasonichall.co.uk/event/monkhams-lodge-4161-loi-temple-4/2030-08-08/
LOCATION:Temple: LOI
CATEGORIES:Temple LoI/CoI
ORGANIZER;CN="L4161":MAILTO:bonneville-pete@virginmedia.com
GEO:17.4860232;101.7223002
END:VEVENT
BEGIN:VEVENT
DTSTART;TZID=Europe/London:20300815T193000
DTEND;TZID=Europe/London:20300815T213000
DTSTAMP:20260422T205138
CREATED:20221216T175213Z
LAST-MODIFIED:20241023T143552Z
UID:10007936-1913052600-1913059800@harlowmasonichall.co.uk
SUMMARY:Monkham's Lodge 4161 - LoI (Temple (3))
DESCRIPTION:
URL:https://harlowmasonichall.co.uk/event/new-monkhams-lodge-4161-loi-temple-2021-10-21-2021-11-18-3/2030-08-15/
LOCATION:Temple: LOI
CATEGORIES:Temple LoI/CoI
ORGANIZER;CN="L4161":MAILTO:bonneville-pete@virginmedia.com
GEO:17.4860232;101.7223002
END:VEVENT
BEGIN:VEVENT
DTSTART;TZID=Europe/London:20300819T193000
DTEND;TZID=Europe/London:20300819T213000
DTSTAMP:20260422T205138
CREATED:20221219T105153Z
LAST-MODIFIED:20241118T202241Z
UID:10007942-1913398200-1913405400@harlowmasonichall.co.uk
SUMMARY:Netteswell Cross Lodge 9280 – LoI (Temple (3))
DESCRIPTION:
URL:https://harlowmasonichall.co.uk/event/netteswell-cross-lodge-9280-loi-temple-3/2030-08-19/
LOCATION:Temple: LOI
CATEGORIES:Temple LoI/CoI
ORGANIZER;CN="L9280":MAILTO:steveadnitt@aol.com
GEO:17.4860232;101.7223002
END:VEVENT
BEGIN:VEVENT
DTSTART;TZID=Europe/London:20300820T193000
DTEND;TZID=Europe/London:20300820T213000
DTSTAMP:20260422T205138
CREATED:20231228T214042Z
LAST-MODIFIED:20241017T131458Z
UID:10008528-1913484600-1913491800@harlowmasonichall.co.uk
SUMMARY:Ixion Lodge 2501 – LoI (Temple (3))
DESCRIPTION:
URL:https://harlowmasonichall.co.uk/event/ixion-lodge-2501-loi-temple-7/2030-08-20/
LOCATION:Temple: LOI
CATEGORIES:Temple LoI/CoI
GEO:17.4860232;101.7223002
END:VEVENT
BEGIN:VEVENT
DTSTART;TZID=Europe/London:20300822T193000
DTEND;TZID=Europe/London:20300822T213000
DTSTAMP:20260422T205138
CREATED:20221022T141057Z
LAST-MODIFIED:20241023T143527Z
UID:10007946-1913657400-1913664600@harlowmasonichall.co.uk
SUMMARY:Monkham's Lodge 4161 - LoI (Temple (4))
DESCRIPTION:
URL:https://harlowmasonichall.co.uk/event/new-monkhams-lodge-4161-loi-temple-2021-10-21-2021-11-18-2/2030-08-22/
LOCATION:Temple: LOI
CATEGORIES:Temple LoI/CoI
ORGANIZER;CN="L4161":MAILTO:bonneville-pete@virginmedia.com
GEO:17.4860232;101.7223002
END:VEVENT
BEGIN:VEVENT
DTSTART;TZID=Europe/London:20300826T193000
DTEND;TZID=Europe/London:20300826T213000
DTSTAMP:20260422T205138
CREATED:20221219T105319Z
LAST-MODIFIED:20241118T201909Z
UID:10008737-1914003000-1914010200@harlowmasonichall.co.uk
SUMMARY:Netteswell Cross Lodge 9280 – LoI (Temple (4))
DESCRIPTION:
URL:https://harlowmasonichall.co.uk/event/netteswell-cross-lodge-9280-loi-temple-4/2030-08-26/
LOCATION:Temple: LOI
CATEGORIES:Temple LoI/CoI
ORGANIZER;CN="L9280":MAILTO:steveadnitt@aol.com
GEO:17.4860232;101.7223002
END:VEVENT
BEGIN:VEVENT
DTSTART;TZID=Europe/London:20300829T193000
DTEND;TZID=Europe/London:20300829T213000
DTSTAMP:20260422T205138
CREATED:20221216T114710Z
LAST-MODIFIED:20241023T144401Z
UID:10007977-1914262200-1914269400@harlowmasonichall.co.uk
SUMMARY:Eton Manor 8438 - LoI (Temple (5))
DESCRIPTION:
URL:https://harlowmasonichall.co.uk/event/eton-manor-8438-loi-shepherd-room-9/2030-08-29/
LOCATION:Temple: LOI
CATEGORIES:Temple LoI/CoI
ORGANIZER;CN="L8438":MAILTO:rikki.double@btinternet.com
GEO:17.4860232;101.7223002
END:VEVENT
END:VCALENDAR