BEGIN:VCALENDAR
VERSION:2.0
PRODID:-//Harlow Masonic Hall - ECPv6.15.20//NONSGML v1.0//EN
CALSCALE:GREGORIAN
METHOD:PUBLISH
X-ORIGINAL-URL:https://harlowmasonichall.co.uk
X-WR-CALDESC:Events for Harlow Masonic Hall
REFRESH-INTERVAL;VALUE=DURATION:PT1H
X-Robots-Tag:noindex
X-PUBLISHED-TTL:PT1H
BEGIN:VTIMEZONE
TZID:Europe/London
BEGIN:DAYLIGHT
TZOFFSETFROM:+0000
TZOFFSETTO:+0100
TZNAME:BST
DTSTART:20290325T010000
END:DAYLIGHT
BEGIN:STANDARD
TZOFFSETFROM:+0100
TZOFFSETTO:+0000
TZNAME:GMT
DTSTART:20291028T010000
END:STANDARD
BEGIN:DAYLIGHT
TZOFFSETFROM:+0000
TZOFFSETTO:+0100
TZNAME:BST
DTSTART:20300331T010000
END:DAYLIGHT
BEGIN:STANDARD
TZOFFSETFROM:+0100
TZOFFSETTO:+0000
TZNAME:GMT
DTSTART:20301027T010000
END:STANDARD
BEGIN:DAYLIGHT
TZOFFSETFROM:+0000
TZOFFSETTO:+0100
TZNAME:BST
DTSTART:20310330T010000
END:DAYLIGHT
BEGIN:STANDARD
TZOFFSETFROM:+0100
TZOFFSETTO:+0000
TZNAME:GMT
DTSTART:20311026T010000
END:STANDARD
END:VTIMEZONE
BEGIN:VEVENT
DTSTART;TZID=Europe/London:20300501T193000
DTEND;TZID=Europe/London:20300501T213000
DTSTAMP:20260422T180853
CREATED:20240312T212123Z
LAST-MODIFIED:20250102T135955Z
UID:10009576-1903894200-1903901400@harlowmasonichall.co.uk
SUMMARY:The Lodge of Borrowed Light 9054 – LoI (Temple (1))
DESCRIPTION:
URL:https://harlowmasonichall.co.uk/event/the-lodge-of-borrowed-light-9054-loi-temple-4-2-2/2030-05-01/
LOCATION:Temple: LOI
CATEGORIES:Temple LoI/CoI
ORGANIZER;CN="L9054":MAILTO:Melvin@essexpackaging.co.uk
GEO:17.4860232;101.7223002
END:VEVENT
BEGIN:VEVENT
DTSTART;TZID=Europe/London:20300507T193000
DTEND;TZID=Europe/London:20300507T213000
DTSTAMP:20260422T180853
CREATED:20241018T094707Z
LAST-MODIFIED:20241024T110638Z
UID:10010096-1904412600-1904419800@harlowmasonichall.co.uk
SUMMARY:Ixion Lodge 2501 – LoI (Temple (1))
DESCRIPTION:
URL:https://harlowmasonichall.co.uk/event/ixion-lodge-2501-loi-temple-6-2/2030-05-07/
LOCATION:Temple: LOI
CATEGORIES:Temple LoI/CoI
GEO:17.4860232;101.7223002
END:VEVENT
BEGIN:VEVENT
DTSTART;TZID=Europe/London:20300509T193000
DTEND;TZID=Europe/London:20300509T213000
DTSTAMP:20260422T180853
CREATED:20221229T160859Z
LAST-MODIFIED:20241023T143831Z
UID:10009935-1904585400-1904592600@harlowmasonichall.co.uk
SUMMARY:Monkham's Lodge 4161 - LoI (Temple (2))
DESCRIPTION:
URL:https://harlowmasonichall.co.uk/event/monkhams-lodge-4161-loi-temple-4/2030-05-09/
LOCATION:Temple: LOI
CATEGORIES:Temple LoI/CoI
ORGANIZER;CN="L4161":MAILTO:bonneville-pete@virginmedia.com
GEO:17.4860232;101.7223002
END:VEVENT
BEGIN:VEVENT
DTSTART;TZID=Europe/London:20300513T193000
DTEND;TZID=Europe/London:20300513T213000
DTSTAMP:20260422T180853
CREATED:20221219T105053Z
LAST-MODIFIED:20241118T202758Z
UID:10007862-1904931000-1904938200@harlowmasonichall.co.uk
SUMMARY:Netteswell Cross Lodge 9280 – LoI (Temple (2))
DESCRIPTION:
URL:https://harlowmasonichall.co.uk/event/netteswell-cross-lodge-9280-loi-temple-2/2030-05-13/
LOCATION:Temple: LOI
CATEGORIES:Temple LoI/CoI
ORGANIZER;CN="L9280":MAILTO:steveadnitt@aol.com
GEO:17.4860232;101.7223002
END:VEVENT
BEGIN:VEVENT
DTSTART;TZID=Europe/London:20300515T193000
DTEND;TZID=Europe/London:20300515T213000
DTSTAMP:20260422T180853
CREATED:20231205T092255Z
LAST-MODIFIED:20241023T145850Z
UID:10009236-1905103800-1905111000@harlowmasonichall.co.uk
SUMMARY:Stondon Massey Lodge 7881 - LoI (Temple (3))
DESCRIPTION:
URL:https://harlowmasonichall.co.uk/event/stondon-massey-lodge-7881-loi-temple-2/2030-05-15/
LOCATION:Temple: LOI
CATEGORIES:Temple LoI/CoI
GEO:17.4860232;101.7223002
END:VEVENT
BEGIN:VEVENT
DTSTART;TZID=Europe/London:20300520T193000
DTEND;TZID=Europe/London:20300520T213000
DTSTAMP:20260422T180853
CREATED:20221022T141824Z
LAST-MODIFIED:20241016T152504Z
UID:10009239-1905535800-1905543000@harlowmasonichall.co.uk
SUMMARY:The Chapter of Borrowed Light 9054 - CoI (Temple)
DESCRIPTION:
URL:https://harlowmasonichall.co.uk/event/testc9054-2022-05-02/2030-05-20/
LOCATION:Temple: LOI
CATEGORIES:Temple LoI/CoI
ORGANIZER;CN="C9054":MAILTO:barrynewton7693@btinternet.com
GEO:17.4860232;101.7223002
END:VEVENT
BEGIN:VEVENT
DTSTART;TZID=Europe/London:20300521T193000
DTEND;TZID=Europe/London:20300521T213000
DTSTAMP:20260422T180853
CREATED:20221216T094350Z
LAST-MODIFIED:20241022T154119Z
UID:10009595-1905622200-1905629400@harlowmasonichall.co.uk
SUMMARY:Almaston Lodge 4455 – LoI (Temple (3))
DESCRIPTION:
URL:https://harlowmasonichall.co.uk/event/almaston-4455-loi-temple-3/2030-05-21/
LOCATION:Temple: LOI
CATEGORIES:Temple LoI/CoI
ORGANIZER;CN="L4455":MAILTO:terryrogers3945@hotmail.co.uk
GEO:17.4860232;101.7223002
END:VEVENT
BEGIN:VEVENT
DTSTART;TZID=Europe/London:20300522T193000
DTEND;TZID=Europe/London:20300522T213000
DTSTAMP:20260422T180853
CREATED:20221220T212333Z
LAST-MODIFIED:20250907T140906Z
UID:10007694-1905708600-1905715800@harlowmasonichall.co.uk
SUMMARY:The Lodge of Borrowed Light 9054 – LoI (Temple (4))
DESCRIPTION:
URL:https://harlowmasonichall.co.uk/event/the-lodge-of-borrowed-light-9054-loi-temple-5/2030-05-22/
LOCATION:Temple: LOI
CATEGORIES:Temple LoI/CoI
ORGANIZER;CN="L9054":MAILTO:Melvin@essexpackaging.co.uk
GEO:17.4860232;101.7223002
END:VEVENT
BEGIN:VEVENT
DTSTART;TZID=Europe/London:20300527T193000
DTEND;TZID=Europe/London:20300527T213000
DTSTAMP:20260422T180853
CREATED:20221219T105319Z
LAST-MODIFIED:20241118T201909Z
UID:10008735-1906140600-1906147800@harlowmasonichall.co.uk
SUMMARY:Netteswell Cross Lodge 9280 – LoI (Temple (4))
DESCRIPTION:
URL:https://harlowmasonichall.co.uk/event/netteswell-cross-lodge-9280-loi-temple-4/2030-05-27/
LOCATION:Temple: LOI
CATEGORIES:Temple LoI/CoI
ORGANIZER;CN="L9280":MAILTO:steveadnitt@aol.com
GEO:17.4860232;101.7223002
END:VEVENT
BEGIN:VEVENT
DTSTART;TZID=Europe/London:20300529T193000
DTEND;TZID=Europe/London:20300529T213000
DTSTAMP:20260422T180853
CREATED:20240426T110340Z
LAST-MODIFIED:20241017T125704Z
UID:10009240-1906313400-1906320600@harlowmasonichall.co.uk
SUMMARY:The Lodge of Borrowed Light 9054 – LoI (Temple (5))
DESCRIPTION:
URL:https://harlowmasonichall.co.uk/event/the-lodge-of-borrowed-light-9054-loi-temple/2030-05-29/
LOCATION:Temple: LOI
CATEGORIES:Temple LoI/CoI
ORGANIZER;CN="L9054":MAILTO:Melvin@essexpackaging.co.uk
GEO:17.4860232;101.7223002
END:VEVENT
BEGIN:VEVENT
DTSTART;TZID=Europe/London:20300530T193000
DTEND;TZID=Europe/London:20300530T213000
DTSTAMP:20260422T180853
CREATED:20221022T141041Z
LAST-MODIFIED:20241017T133027Z
UID:10009351-1906399800-1906407000@harlowmasonichall.co.uk
SUMMARY:Harlow Chapter 2734 - CoI (Temple (4/5))
DESCRIPTION:
URL:https://harlowmasonichall.co.uk/event/new-harlow-chapter-2734-coi-temple-2/2030-05-30/
LOCATION:Temple: LOI
CATEGORIES:Temple LoI/CoI
ORGANIZER;CN="C2734":MAILTO:iantarran@hotmail.com
GEO:17.4860232;101.7223002
END:VEVENT
END:VCALENDAR