BEGIN:VCALENDAR
VERSION:2.0
PRODID:-//Harlow Masonic Hall - ECPv6.15.20//NONSGML v1.0//EN
CALSCALE:GREGORIAN
METHOD:PUBLISH
X-ORIGINAL-URL:https://harlowmasonichall.co.uk
X-WR-CALDESC:Events for Harlow Masonic Hall
REFRESH-INTERVAL;VALUE=DURATION:PT1H
X-Robots-Tag:noindex
X-PUBLISHED-TTL:PT1H
BEGIN:VTIMEZONE
TZID:Europe/London
BEGIN:DAYLIGHT
TZOFFSETFROM:+0000
TZOFFSETTO:+0100
TZNAME:BST
DTSTART:20280326T010000
END:DAYLIGHT
BEGIN:STANDARD
TZOFFSETFROM:+0100
TZOFFSETTO:+0000
TZNAME:GMT
DTSTART:20281029T010000
END:STANDARD
BEGIN:DAYLIGHT
TZOFFSETFROM:+0000
TZOFFSETTO:+0100
TZNAME:BST
DTSTART:20290325T010000
END:DAYLIGHT
BEGIN:STANDARD
TZOFFSETFROM:+0100
TZOFFSETTO:+0000
TZNAME:GMT
DTSTART:20291028T010000
END:STANDARD
BEGIN:DAYLIGHT
TZOFFSETFROM:+0000
TZOFFSETTO:+0100
TZNAME:BST
DTSTART:20300331T010000
END:DAYLIGHT
BEGIN:STANDARD
TZOFFSETFROM:+0100
TZOFFSETTO:+0000
TZNAME:GMT
DTSTART:20301027T010000
END:STANDARD
END:VTIMEZONE
BEGIN:VEVENT
DTSTART;TZID=Europe/London:20290501T193000
DTEND;TZID=Europe/London:20290501T213000
DTSTAMP:20260421T184443
CREATED:20241018T094707Z
LAST-MODIFIED:20241024T110638Z
UID:10010089-1872358200-1872365400@harlowmasonichall.co.uk
SUMMARY:Ixion Lodge 2501 – LoI (Temple (1))
DESCRIPTION:
URL:https://harlowmasonichall.co.uk/event/ixion-lodge-2501-loi-temple-6-2/2029-05-01/
LOCATION:Temple: LOI
CATEGORIES:Temple LoI/CoI
GEO:17.4860232;101.7223002
END:VEVENT
BEGIN:VEVENT
DTSTART;TZID=Europe/London:20290502T193000
DTEND;TZID=Europe/London:20290502T213000
DTSTAMP:20260421T184443
CREATED:20240312T212123Z
LAST-MODIFIED:20250102T135955Z
UID:10007553-1872444600-1872451800@harlowmasonichall.co.uk
SUMMARY:The Lodge of Borrowed Light 9054 – LoI (Temple (1))
DESCRIPTION:
URL:https://harlowmasonichall.co.uk/event/the-lodge-of-borrowed-light-9054-loi-temple-4-2-2/2029-05-02/
LOCATION:Temple: LOI
CATEGORIES:Temple LoI/CoI
ORGANIZER;CN="L9054":MAILTO:Melvin@essexpackaging.co.uk
GEO:17.4860232;101.7223002
END:VEVENT
BEGIN:VEVENT
DTSTART;TZID=Europe/London:20290510T193000
DTEND;TZID=Europe/London:20290510T213000
DTSTAMP:20260421T184443
CREATED:20221229T160859Z
LAST-MODIFIED:20241023T143831Z
UID:10009934-1873135800-1873143000@harlowmasonichall.co.uk
SUMMARY:Monkham's Lodge 4161 - LoI (Temple (2))
DESCRIPTION:
URL:https://harlowmasonichall.co.uk/event/monkhams-lodge-4161-loi-temple-4/2029-05-10/
LOCATION:Temple: LOI
CATEGORIES:Temple LoI/CoI
ORGANIZER;CN="L4161":MAILTO:bonneville-pete@virginmedia.com
GEO:17.4860232;101.7223002
END:VEVENT
BEGIN:VEVENT
DTSTART;TZID=Europe/London:20290514T193000
DTEND;TZID=Europe/London:20290514T213000
DTSTAMP:20260421T184443
CREATED:20221219T105053Z
LAST-MODIFIED:20241118T202758Z
UID:10007858-1873481400-1873488600@harlowmasonichall.co.uk
SUMMARY:Netteswell Cross Lodge 9280 – LoI (Temple (2))
DESCRIPTION:
URL:https://harlowmasonichall.co.uk/event/netteswell-cross-lodge-9280-loi-temple-2/2029-05-14/
LOCATION:Temple: LOI
CATEGORIES:Temple LoI/CoI
ORGANIZER;CN="L9280":MAILTO:steveadnitt@aol.com
GEO:17.4860232;101.7223002
END:VEVENT
BEGIN:VEVENT
DTSTART;TZID=Europe/London:20290515T193000
DTEND;TZID=Europe/London:20290515T213000
DTSTAMP:20260421T184443
CREATED:20221216T094350Z
LAST-MODIFIED:20241022T154119Z
UID:10007483-1873567800-1873575000@harlowmasonichall.co.uk
SUMMARY:Almaston Lodge 4455 – LoI (Temple (3))
DESCRIPTION:
URL:https://harlowmasonichall.co.uk/event/almaston-4455-loi-temple-3/2029-05-15/
LOCATION:Temple: LOI
CATEGORIES:Temple LoI/CoI
ORGANIZER;CN="L4455":MAILTO:terryrogers3945@hotmail.co.uk
GEO:17.4860232;101.7223002
END:VEVENT
BEGIN:VEVENT
DTSTART;TZID=Europe/London:20290516T193000
DTEND;TZID=Europe/London:20290516T213000
DTSTAMP:20260421T184443
CREATED:20231205T092255Z
LAST-MODIFIED:20241023T145850Z
UID:10009234-1873654200-1873661400@harlowmasonichall.co.uk
SUMMARY:Stondon Massey Lodge 7881 - LoI (Temple (3))
DESCRIPTION:
URL:https://harlowmasonichall.co.uk/event/stondon-massey-lodge-7881-loi-temple-2/2029-05-16/
LOCATION:Temple: LOI
CATEGORIES:Temple LoI/CoI
GEO:17.4860232;101.7223002
END:VEVENT
BEGIN:VEVENT
DTSTART;TZID=Europe/London:20290521T193000
DTEND;TZID=Europe/London:20290521T213000
DTSTAMP:20260421T184443
CREATED:20221022T141824Z
LAST-MODIFIED:20241016T152504Z
UID:10006831-1874086200-1874093400@harlowmasonichall.co.uk
SUMMARY:The Chapter of Borrowed Light 9054 - CoI (Temple)
DESCRIPTION:
URL:https://harlowmasonichall.co.uk/event/testc9054-2022-05-02/2029-05-21/
LOCATION:Temple: LOI
CATEGORIES:Temple LoI/CoI
ORGANIZER;CN="C9054":MAILTO:barrynewton7693@btinternet.com
GEO:17.4860232;101.7223002
END:VEVENT
BEGIN:VEVENT
DTSTART;TZID=Europe/London:20290523T193000
DTEND;TZID=Europe/London:20290523T213000
DTSTAMP:20260421T184443
CREATED:20221220T212333Z
LAST-MODIFIED:20250907T140906Z
UID:10007498-1874259000-1874266200@harlowmasonichall.co.uk
SUMMARY:The Lodge of Borrowed Light 9054 – LoI (Temple (4))
DESCRIPTION:
URL:https://harlowmasonichall.co.uk/event/the-lodge-of-borrowed-light-9054-loi-temple-5/2029-05-23/
LOCATION:Temple: LOI
CATEGORIES:Temple LoI/CoI
ORGANIZER;CN="L9054":MAILTO:Melvin@essexpackaging.co.uk
GEO:17.4860232;101.7223002
END:VEVENT
BEGIN:VEVENT
DTSTART;TZID=Europe/London:20290528T193000
DTEND;TZID=Europe/London:20290528T213000
DTSTAMP:20260421T184443
CREATED:20221219T105319Z
LAST-MODIFIED:20241118T201909Z
UID:10007192-1874691000-1874698200@harlowmasonichall.co.uk
SUMMARY:Netteswell Cross Lodge 9280 – LoI (Temple (4))
DESCRIPTION:
URL:https://harlowmasonichall.co.uk/event/netteswell-cross-lodge-9280-loi-temple-4/2029-05-28/
LOCATION:Temple: LOI
CATEGORIES:Temple LoI/CoI
ORGANIZER;CN="L9280":MAILTO:steveadnitt@aol.com
GEO:17.4860232;101.7223002
END:VEVENT
BEGIN:VEVENT
DTSTART;TZID=Europe/London:20290530T193000
DTEND;TZID=Europe/London:20290530T213000
DTSTAMP:20260421T184443
CREATED:20240426T110340Z
LAST-MODIFIED:20241017T125704Z
UID:10007579-1874863800-1874871000@harlowmasonichall.co.uk
SUMMARY:The Lodge of Borrowed Light 9054 – LoI (Temple (5))
DESCRIPTION:
URL:https://harlowmasonichall.co.uk/event/the-lodge-of-borrowed-light-9054-loi-temple/2029-05-30/
LOCATION:Temple: LOI
CATEGORIES:Temple LoI/CoI
ORGANIZER;CN="L9054":MAILTO:Melvin@essexpackaging.co.uk
GEO:17.4860232;101.7223002
END:VEVENT
BEGIN:VEVENT
DTSTART;TZID=Europe/London:20290531T193000
DTEND;TZID=Europe/London:20290531T213000
DTSTAMP:20260421T184443
CREATED:20221022T141041Z
LAST-MODIFIED:20241017T133027Z
UID:10006767-1874950200-1874957400@harlowmasonichall.co.uk
SUMMARY:Harlow Chapter 2734 - CoI (Temple (4/5))
DESCRIPTION:
URL:https://harlowmasonichall.co.uk/event/new-harlow-chapter-2734-coi-temple-2/2029-05-31/
LOCATION:Temple: LOI
CATEGORIES:Temple LoI/CoI
ORGANIZER;CN="C2734":MAILTO:iantarran@hotmail.com
GEO:17.4860232;101.7223002
END:VEVENT
END:VCALENDAR