BEGIN:VCALENDAR
VERSION:2.0
PRODID:-//Harlow Masonic Hall - ECPv6.15.20//NONSGML v1.0//EN
CALSCALE:GREGORIAN
METHOD:PUBLISH
X-WR-CALNAME:Harlow Masonic Hall
X-ORIGINAL-URL:https://harlowmasonichall.co.uk
X-WR-CALDESC:Events for Harlow Masonic Hall
REFRESH-INTERVAL;VALUE=DURATION:PT1H
X-Robots-Tag:noindex
X-PUBLISHED-TTL:PT1H
BEGIN:VTIMEZONE
TZID:Europe/London
BEGIN:DAYLIGHT
TZOFFSETFROM:+0000
TZOFFSETTO:+0100
TZNAME:BST
DTSTART:20280326T010000
END:DAYLIGHT
BEGIN:STANDARD
TZOFFSETFROM:+0100
TZOFFSETTO:+0000
TZNAME:GMT
DTSTART:20281029T010000
END:STANDARD
BEGIN:DAYLIGHT
TZOFFSETFROM:+0000
TZOFFSETTO:+0100
TZNAME:BST
DTSTART:20290325T010000
END:DAYLIGHT
BEGIN:STANDARD
TZOFFSETFROM:+0100
TZOFFSETTO:+0000
TZNAME:GMT
DTSTART:20291028T010000
END:STANDARD
BEGIN:DAYLIGHT
TZOFFSETFROM:+0000
TZOFFSETTO:+0100
TZNAME:BST
DTSTART:20300331T010000
END:DAYLIGHT
BEGIN:STANDARD
TZOFFSETFROM:+0100
TZOFFSETTO:+0000
TZNAME:GMT
DTSTART:20301027T010000
END:STANDARD
END:VTIMEZONE
BEGIN:VEVENT
DTSTART;TZID=Europe/London:20290301T193000
DTEND;TZID=Europe/London:20290301T213000
DTSTAMP:20260421T152357
CREATED:20221216T160629Z
LAST-MODIFIED:20241022T154737Z
UID:10006980-1867087800-1867095000@harlowmasonichall.co.uk
SUMMARY:Eureka 8761 - LoI (Temple (1))
DESCRIPTION:
URL:https://harlowmasonichall.co.uk/event/eureka-8761-loi-temple/2029-03-01/
LOCATION:Temple: LOI
CATEGORIES:Temple LoI/CoI
ORGANIZER;CN="L8761":MAILTO:8761tel@gmail.com
GEO:17.4860232;101.7223002
END:VEVENT
BEGIN:VEVENT
DTSTART;TZID=Europe/London:20290305T193000
DTEND;TZID=Europe/London:20290305T213000
DTSTAMP:20260421T152357
CREATED:20221222T110938Z
LAST-MODIFIED:20241023T145304Z
UID:10008987-1867433400-1867440600@harlowmasonichall.co.uk
SUMMARY:Old Church Lodge 7070 - LoI (Temple (1))
DESCRIPTION:
URL:https://harlowmasonichall.co.uk/event/new-old-church-lodge-7070-loi-temple-2021-11-01-2021-11-01-2-2-2/2029-03-05/
LOCATION:Temple: LOI
CATEGORIES:Temple LoI/CoI
ORGANIZER;CN="L7070":MAILTO:royelford@icloud.com
GEO:17.4860232;101.7223002
END:VEVENT
BEGIN:VEVENT
DTSTART;TZID=Europe/London:20290306T193000
DTEND;TZID=Europe/London:20290306T213000
DTSTAMP:20260421T152357
CREATED:20241018T094707Z
LAST-MODIFIED:20241024T110638Z
UID:10010088-1867519800-1867527000@harlowmasonichall.co.uk
SUMMARY:Ixion Lodge 2501 – LoI (Temple (1))
DESCRIPTION:
URL:https://harlowmasonichall.co.uk/event/ixion-lodge-2501-loi-temple-6-2/2029-03-06/
LOCATION:Temple: LOI
CATEGORIES:Temple LoI/CoI
GEO:17.4860232;101.7223002
END:VEVENT
BEGIN:VEVENT
DTSTART;TZID=Europe/London:20290307T193000
DTEND;TZID=Europe/London:20290307T213000
DTSTAMP:20260421T152357
CREATED:20231205T091826Z
LAST-MODIFIED:20241023T145742Z
UID:10009210-1867606200-1867613400@harlowmasonichall.co.uk
SUMMARY:Stondon Massey Lodge 7881 - LoI (Temple (1))
DESCRIPTION:
URL:https://harlowmasonichall.co.uk/event/stondon-massey-lodge-7881-loi-temple/2029-03-07/
LOCATION:Temple: LOI
CATEGORIES:Temple LoI/CoI
GEO:17.4860232;101.7223002
END:VEVENT
BEGIN:VEVENT
DTSTART;TZID=Europe/London:20290308T193000
DTEND;TZID=Europe/London:20290308T213000
DTSTAMP:20260421T152357
CREATED:20221216T160818Z
LAST-MODIFIED:20241022T154716Z
UID:10007140-1867692600-1867699800@harlowmasonichall.co.uk
SUMMARY:Eureka 8761 - LoI (Temple (2))
DESCRIPTION:
URL:https://harlowmasonichall.co.uk/event/eureka-8761-loi-temple-2/2029-03-08/
LOCATION:Temple: LOI
CATEGORIES:Temple LoI/CoI
ORGANIZER;CN="L8761":MAILTO:8761tel@gmail.com
GEO:17.4860232;101.7223002
END:VEVENT
BEGIN:VEVENT
DTSTART;TZID=Europe/London:20290312T193000
DTEND;TZID=Europe/London:20290312T213000
DTSTAMP:20260421T152357
CREATED:20221216T110826Z
LAST-MODIFIED:20241117T182709Z
UID:10007469-1868038200-1868045400@harlowmasonichall.co.uk
SUMMARY:Barnaby Rudge 8589 - LoI (Temple (2))
DESCRIPTION:
URL:https://harlowmasonichall.co.uk/event/barnaby-rudge-8589-loi-temple-2/2029-03-12/
LOCATION:Temple: LOI
CATEGORIES:Temple LoI/CoI
ORGANIZER;CN="L8589":MAILTO:stuart.allaway@yahoo.com
GEO:17.4860232;101.7223002
END:VEVENT
BEGIN:VEVENT
DTSTART;TZID=Europe/London:20290313T193000
DTEND;TZID=Europe/London:20290313T213000
DTSTAMP:20260421T152357
CREATED:20241016T155356Z
LAST-MODIFIED:20241024T110747Z
UID:10009281-1868124600-1868131800@harlowmasonichall.co.uk
SUMMARY:Ixion Lodge 2501 – LoI (Temple (2))
DESCRIPTION:
URL:https://harlowmasonichall.co.uk/event/ixion-lodge-2501-loi-temple-10-3/2029-03-13/
LOCATION:Temple: LOI
CATEGORIES:Temple LoI/CoI
GEO:17.4860232;101.7223002
END:VEVENT
BEGIN:VEVENT
DTSTART;TZID=Europe/London:20290314T193000
DTEND;TZID=Europe/London:20290314T213000
DTSTAMP:20260421T152357
CREATED:20221216T165804Z
LAST-MODIFIED:20241021T142349Z
UID:10009774-1868211000-1868218200@harlowmasonichall.co.uk
SUMMARY:Harlowbury Lodge 7795 - LoI (Temple (2))
DESCRIPTION:
URL:https://harlowmasonichall.co.uk/event/harlowbury-lodge-7795-loi-temple-2/2029-03-14/
LOCATION:Temple: LOI
CATEGORIES:Temple LoI/CoI
GEO:17.4860232;101.7223002
END:VEVENT
BEGIN:VEVENT
DTSTART;TZID=Europe/London:20290315T193000
DTEND;TZID=Europe/London:20290315T213000
DTSTAMP:20260421T152357
CREATED:20241017T110243Z
LAST-MODIFIED:20241017T132946Z
UID:10009495-1868297400-1868304600@harlowmasonichall.co.uk
SUMMARY:Harlow Chapter 2734 - CoI (Temple (3))
DESCRIPTION:
URL:https://harlowmasonichall.co.uk/event/harlow-chapter-2734-coi-temple/2029-03-15/
LOCATION:Temple: LOI
CATEGORIES:Temple LoI/CoI
ORGANIZER;CN="C2734":MAILTO:iantarran@hotmail.com
GEO:17.4860232;101.7223002
END:VEVENT
BEGIN:VEVENT
DTSTART;TZID=Europe/London:20290316T193000
DTEND;TZID=Europe/London:20290316T213000
DTSTAMP:20260421T152357
CREATED:20221024T200041Z
LAST-MODIFIED:20241023T144124Z
UID:10006934-1868383800-1868391000@harlowmasonichall.co.uk
SUMMARY:Parndon Magna Lodge 8805 – LoI (Temple (3))
DESCRIPTION:
URL:https://harlowmasonichall.co.uk/event/new-parndon-magna-8805-loi-temple-3/2029-03-16/
LOCATION:Temple: LOI
CATEGORIES:Temple LoI/CoI
ORGANIZER;CN="L8805":MAILTO:davepigram@msn.com
GEO:17.4860232;101.7223002
END:VEVENT
BEGIN:VEVENT
DTSTART;TZID=Europe/London:20290319T193000
DTEND;TZID=Europe/London:20290319T213000
DTSTAMP:20260421T152357
CREATED:20221219T105153Z
LAST-MODIFIED:20241118T202241Z
UID:10007147-1868643000-1868650200@harlowmasonichall.co.uk
SUMMARY:Netteswell Cross Lodge 9280 – LoI (Temple (3))
DESCRIPTION:
URL:https://harlowmasonichall.co.uk/event/netteswell-cross-lodge-9280-loi-temple-3/2029-03-19/
LOCATION:Temple: LOI
CATEGORIES:Temple LoI/CoI
ORGANIZER;CN="L9280":MAILTO:steveadnitt@aol.com
GEO:17.4860232;101.7223002
END:VEVENT
BEGIN:VEVENT
DTSTART;TZID=Europe/London:20290320T193000
DTEND;TZID=Europe/London:20290320T213000
DTSTAMP:20260421T152357
CREATED:20221216T094350Z
LAST-MODIFIED:20241022T154119Z
UID:10007482-1868729400-1868736600@harlowmasonichall.co.uk
SUMMARY:Almaston Lodge 4455 – LoI (Temple (3))
DESCRIPTION:
URL:https://harlowmasonichall.co.uk/event/almaston-4455-loi-temple-3/2029-03-20/
LOCATION:Temple: LOI
CATEGORIES:Temple LoI/CoI
ORGANIZER;CN="L4455":MAILTO:terryrogers3945@hotmail.co.uk
GEO:17.4860232;101.7223002
END:VEVENT
BEGIN:VEVENT
DTSTART;TZID=Europe/London:20290322T193000
DTEND;TZID=Europe/London:20290322T213000
DTSTAMP:20260421T152357
CREATED:20241017T110303Z
LAST-MODIFIED:20241017T133006Z
UID:10009508-1868902200-1868909400@harlowmasonichall.co.uk
SUMMARY:Harlow Chapter 2734 - CoI (Temple (4))
DESCRIPTION:
URL:https://harlowmasonichall.co.uk/event/harlow-chapter-2734-coi-temple-2/2029-03-22/
LOCATION:Temple: LOI
CATEGORIES:Temple LoI/CoI
ORGANIZER;CN="C2734":MAILTO:iantarran@hotmail.com
GEO:17.4860232;101.7223002
END:VEVENT
BEGIN:VEVENT
DTSTART;TZID=Europe/London:20290323T193000
DTEND;TZID=Europe/London:20290323T213000
DTSTAMP:20260421T152357
CREATED:20221030T150832Z
LAST-MODIFIED:20241023T144038Z
UID:10007423-1868988600-1868995800@harlowmasonichall.co.uk
SUMMARY:Parndon Magna Lodge 8805 – LoI (Temple (4))
DESCRIPTION:
URL:https://harlowmasonichall.co.uk/event/new-parndon-magna-8805-loi-temple4/2029-03-23/
LOCATION:Temple: LOI
CATEGORIES:Temple LoI/CoI
ORGANIZER;CN="L8805":MAILTO:davepigram@msn.com
GEO:17.4860232;101.7223002
END:VEVENT
BEGIN:VEVENT
DTSTART;TZID=Europe/London:20290326T193000
DTEND;TZID=Europe/London:20290326T213000
DTSTAMP:20260421T152357
CREATED:20221219T105319Z
LAST-MODIFIED:20241118T201909Z
UID:10008732-1869247800-1869255000@harlowmasonichall.co.uk
SUMMARY:Netteswell Cross Lodge 9280 – LoI (Temple (4))
DESCRIPTION:
URL:https://harlowmasonichall.co.uk/event/netteswell-cross-lodge-9280-loi-temple-4/2029-03-26/
LOCATION:Temple: LOI
CATEGORIES:Temple LoI/CoI
ORGANIZER;CN="L9280":MAILTO:steveadnitt@aol.com
GEO:17.4860232;101.7223002
END:VEVENT
BEGIN:VEVENT
DTSTART;TZID=Europe/London:20290327T193000
DTEND;TZID=Europe/London:20290327T213000
DTSTAMP:20260421T152357
CREATED:20231125T154639Z
LAST-MODIFIED:20241022T154057Z
UID:10009163-1869334200-1869341400@harlowmasonichall.co.uk
SUMMARY:Almaston Lodge 4455 – LoI (Temple (4))
DESCRIPTION:
URL:https://harlowmasonichall.co.uk/event/almaston-4455-loi-temple-4-2-2/2029-03-27/
LOCATION:Temple: LOI
CATEGORIES:Temple LoI/CoI
ORGANIZER;CN="L4455":MAILTO:terryrogers3945@hotmail.co.uk
GEO:17.4860232;101.7223002
END:VEVENT
BEGIN:VEVENT
DTSTART;TZID=Europe/London:20290328T193000
DTEND;TZID=Europe/London:20290328T213000
DTSTAMP:20260421T152357
CREATED:20221220T212333Z
LAST-MODIFIED:20250907T140906Z
UID:10007497-1869420600-1869427800@harlowmasonichall.co.uk
SUMMARY:The Lodge of Borrowed Light 9054 – LoI (Temple (4))
DESCRIPTION:
URL:https://harlowmasonichall.co.uk/event/the-lodge-of-borrowed-light-9054-loi-temple-5/2029-03-28/
LOCATION:Temple: LOI
CATEGORIES:Temple LoI/CoI
ORGANIZER;CN="L9054":MAILTO:Melvin@essexpackaging.co.uk
GEO:17.4860232;101.7223002
END:VEVENT
BEGIN:VEVENT
DTSTART;TZID=Europe/London:20290329T193000
DTEND;TZID=Europe/London:20290329T213000
DTSTAMP:20260421T152357
CREATED:20221022T141041Z
LAST-MODIFIED:20241017T133027Z
UID:10006766-1869507000-1869514200@harlowmasonichall.co.uk
SUMMARY:Harlow Chapter 2734 - CoI (Temple (4/5))
DESCRIPTION:
URL:https://harlowmasonichall.co.uk/event/new-harlow-chapter-2734-coi-temple-2/2029-03-29/
LOCATION:Temple: LOI
CATEGORIES:Temple LoI/CoI
ORGANIZER;CN="C2734":MAILTO:iantarran@hotmail.com
GEO:17.4860232;101.7223002
END:VEVENT
END:VCALENDAR