BEGIN:VCALENDAR
VERSION:2.0
PRODID:-//Harlow Masonic Hall - ECPv6.15.20//NONSGML v1.0//EN
CALSCALE:GREGORIAN
METHOD:PUBLISH
X-WR-CALNAME:Harlow Masonic Hall
X-ORIGINAL-URL:https://harlowmasonichall.co.uk
X-WR-CALDESC:Events for Harlow Masonic Hall
REFRESH-INTERVAL;VALUE=DURATION:PT1H
X-Robots-Tag:noindex
X-PUBLISHED-TTL:PT1H
BEGIN:VTIMEZONE
TZID:Europe/London
BEGIN:DAYLIGHT
TZOFFSETFROM:+0000
TZOFFSETTO:+0100
TZNAME:BST
DTSTART:20270328T010000
END:DAYLIGHT
BEGIN:STANDARD
TZOFFSETFROM:+0100
TZOFFSETTO:+0000
TZNAME:GMT
DTSTART:20271031T010000
END:STANDARD
BEGIN:DAYLIGHT
TZOFFSETFROM:+0000
TZOFFSETTO:+0100
TZNAME:BST
DTSTART:20280326T010000
END:DAYLIGHT
BEGIN:STANDARD
TZOFFSETFROM:+0100
TZOFFSETTO:+0000
TZNAME:GMT
DTSTART:20281029T010000
END:STANDARD
BEGIN:DAYLIGHT
TZOFFSETFROM:+0000
TZOFFSETTO:+0100
TZNAME:BST
DTSTART:20290325T010000
END:DAYLIGHT
BEGIN:STANDARD
TZOFFSETFROM:+0100
TZOFFSETTO:+0000
TZNAME:GMT
DTSTART:20291028T010000
END:STANDARD
END:VTIMEZONE
BEGIN:VEVENT
DTSTART;TZID=Europe/London:20281118T090000
DTEND;TZID=Europe/London:20281118T140000
DTSTAMP:20260422T075428
CREATED:20221121T200615Z
LAST-MODIFIED:20240106T190510Z
UID:10006194-1858150800-1858168800@harlowmasonichall.co.uk
SUMMARY:Sir Peter de Tany Preceptory 442 (Temple)
DESCRIPTION:Sir Peter de Tany Preceptory 442 Lodge meetings take place in the Temple on the \n  \n4th Saturday in September \n3rd Saturday November \n4th Saturday March
URL:https://harlowmasonichall.co.uk/event/sir-peter-de-tany-preceptory-442-temple-2/2028-11-18/
LOCATION:Temple: Meeting
CATEGORIES:Temple Meeting
GEO:35.7583847;-78.7433478
END:VEVENT
BEGIN:VEVENT
DTSTART;TZID=Europe/London:20281118T160000
DTEND;TZID=Europe/London:20281118T180000
DTSTAMP:20260422T075428
CREATED:20210607T200401Z
LAST-MODIFIED:20250621T195235Z
UID:10005526-1858176000-1858183200@harlowmasonichall.co.uk
SUMMARY:Forest of Waltham MMM 1444 – Meeting (Temple)
DESCRIPTION:Forest of Waltham MMM 1444 Lodge meetings take place in the Temple on the \n3rd Saturday in November \n4th Saturday in February \n3rd Saturday in June
URL:https://harlowmasonichall.co.uk/event/forest-of-waltham-mmm-1444-meeting-temple-3/2028-11-18/
LOCATION:Temple: Meeting
CATEGORIES:Temple Meeting
GEO:35.7583847;-78.7433478
END:VEVENT
END:VCALENDAR