BEGIN:VCALENDAR
VERSION:2.0
PRODID:-//Harlow Masonic Hall - ECPv6.15.20//NONSGML v1.0//EN
CALSCALE:GREGORIAN
METHOD:PUBLISH
X-WR-CALNAME:Harlow Masonic Hall
X-ORIGINAL-URL:https://harlowmasonichall.co.uk
X-WR-CALDESC:Events for Harlow Masonic Hall
REFRESH-INTERVAL;VALUE=DURATION:PT1H
X-Robots-Tag:noindex
X-PUBLISHED-TTL:PT1H
BEGIN:VTIMEZONE
TZID:Europe/London
BEGIN:DAYLIGHT
TZOFFSETFROM:+0000
TZOFFSETTO:+0100
TZNAME:BST
DTSTART:20270328T010000
END:DAYLIGHT
BEGIN:STANDARD
TZOFFSETFROM:+0100
TZOFFSETTO:+0000
TZNAME:GMT
DTSTART:20271031T010000
END:STANDARD
BEGIN:DAYLIGHT
TZOFFSETFROM:+0000
TZOFFSETTO:+0100
TZNAME:BST
DTSTART:20280326T010000
END:DAYLIGHT
BEGIN:STANDARD
TZOFFSETFROM:+0100
TZOFFSETTO:+0000
TZNAME:GMT
DTSTART:20281029T010000
END:STANDARD
BEGIN:DAYLIGHT
TZOFFSETFROM:+0000
TZOFFSETTO:+0100
TZNAME:BST
DTSTART:20290325T010000
END:DAYLIGHT
BEGIN:STANDARD
TZOFFSETFROM:+0100
TZOFFSETTO:+0000
TZNAME:GMT
DTSTART:20291028T010000
END:STANDARD
END:VTIMEZONE
BEGIN:VEVENT
DTSTART;TZID=Europe/London:20280405T150000
DTEND;TZID=Europe/London:20280405T193000
DTSTAMP:20260421T201822
CREATED:20221121T202316Z
LAST-MODIFIED:20240324T192818Z
UID:10006595-1838559600-1838575800@harlowmasonichall.co.uk
SUMMARY:Harlow Chapter 2734 - Meeting (Temple)
DESCRIPTION:Harlow Chapter 2734 Lodge meetings take place in the Temple on the \n3rd Wednesday in October \n1st Wednesday in April (I) & June
URL:https://harlowmasonichall.co.uk/event/harlow-chapter-2734-meeting-temple/2028-04-05/
LOCATION:Temple: Meeting
CATEGORIES:Temple Meeting
ORGANIZER;CN="C2734":MAILTO:iantarran@hotmail.com
GEO:35.7583847;-78.7433478
END:VEVENT
BEGIN:VEVENT
DTSTART;TZID=Europe/London:20280405T193000
DTEND;TZID=Europe/London:20280405T213000
DTSTAMP:20260421T201822
CREATED:20240312T212123Z
LAST-MODIFIED:20250102T135955Z
UID:10006429-1838575800-1838583000@harlowmasonichall.co.uk
SUMMARY:The Lodge of Borrowed Light 9054 – LoI (Temple (1))
DESCRIPTION:
URL:https://harlowmasonichall.co.uk/event/the-lodge-of-borrowed-light-9054-loi-temple-4-2-2/2028-04-05/
LOCATION:Temple: LOI
CATEGORIES:Temple LoI/CoI
ORGANIZER;CN="L9054":MAILTO:Melvin@essexpackaging.co.uk
GEO:17.4860232;101.7223002
END:VEVENT
BEGIN:VEVENT
DTSTART;TZID=Europe/London:20280405T193000
DTEND;TZID=Europe/London:20280405T213000
DTSTAMP:20260421T201823
CREATED:20241009T191412Z
LAST-MODIFIED:20241021T140958Z
UID:10008280-1838575800-1838583000@harlowmasonichall.co.uk
SUMMARY:Harlowbury Lodge 7795 - LoI (Shepherd Room (1))
DESCRIPTION:
URL:https://harlowmasonichall.co.uk/event/harlowbury-lodge-7795-loi-shepherd-room/2028-04-05/
LOCATION:Shepherd Room: LOI
CATEGORIES:Shepherd Room
GEO:17.4860232;101.7223002
END:VEVENT
END:VCALENDAR