BEGIN:VCALENDAR
VERSION:2.0
PRODID:-//Harlow Masonic Hall - ECPv6.15.20//NONSGML v1.0//EN
CALSCALE:GREGORIAN
METHOD:PUBLISH
X-ORIGINAL-URL:https://harlowmasonichall.co.uk
X-WR-CALDESC:Events for Harlow Masonic Hall
REFRESH-INTERVAL;VALUE=DURATION:PT1H
X-Robots-Tag:noindex
X-PUBLISHED-TTL:PT1H
BEGIN:VTIMEZONE
TZID:Europe/London
BEGIN:DAYLIGHT
TZOFFSETFROM:+0000
TZOFFSETTO:+0100
TZNAME:BST
DTSTART:20250330T010000
END:DAYLIGHT
BEGIN:STANDARD
TZOFFSETFROM:+0100
TZOFFSETTO:+0000
TZNAME:GMT
DTSTART:20251026T010000
END:STANDARD
BEGIN:DAYLIGHT
TZOFFSETFROM:+0000
TZOFFSETTO:+0100
TZNAME:BST
DTSTART:20260329T010000
END:DAYLIGHT
BEGIN:STANDARD
TZOFFSETFROM:+0100
TZOFFSETTO:+0000
TZNAME:GMT
DTSTART:20261025T010000
END:STANDARD
BEGIN:DAYLIGHT
TZOFFSETFROM:+0000
TZOFFSETTO:+0100
TZNAME:BST
DTSTART:20270328T010000
END:DAYLIGHT
BEGIN:STANDARD
TZOFFSETFROM:+0100
TZOFFSETTO:+0000
TZNAME:GMT
DTSTART:20271031T010000
END:STANDARD
END:VTIMEZONE
BEGIN:VEVENT
DTSTART;TZID=Europe/London:20261121T090000
DTEND;TZID=Europe/London:20261121T140000
DTSTAMP:20260421T095416
CREATED:20221121T200615Z
LAST-MODIFIED:20240106T190510Z
UID:10006192-1795251600-1795269600@harlowmasonichall.co.uk
SUMMARY:Sir Peter de Tany Preceptory 442 (Temple)
DESCRIPTION:Sir Peter de Tany Preceptory 442 Lodge meetings take place in the Temple on the \n  \n4th Saturday in September \n3rd Saturday November \n4th Saturday March
URL:https://harlowmasonichall.co.uk/event/sir-peter-de-tany-preceptory-442-temple-2/2026-11-21/
LOCATION:Temple: Meeting
CATEGORIES:Temple Meeting
GEO:35.7583847;-78.7433478
END:VEVENT
BEGIN:VEVENT
DTSTART;TZID=Europe/London:20261121T160000
DTEND;TZID=Europe/London:20261121T180000
DTSTAMP:20260421T095416
CREATED:20210607T200401Z
LAST-MODIFIED:20250621T195235Z
UID:10005109-1795276800-1795284000@harlowmasonichall.co.uk
SUMMARY:Forest of Waltham MMM 1444 – Meeting (Temple)
DESCRIPTION:Forest of Waltham MMM 1444 Lodge meetings take place in the Temple on the \n3rd Saturday in November \n4th Saturday in February \n3rd Saturday in June
URL:https://harlowmasonichall.co.uk/event/forest-of-waltham-mmm-1444-meeting-temple-3/2026-11-21/
LOCATION:Temple: Meeting
CATEGORIES:Temple Meeting
GEO:35.7583847;-78.7433478
END:VEVENT
END:VCALENDAR